Workbook
Name 本年利润: 会计科目表!$D$48:$K$48
Name 材料采购: 会计科目表!$D$13:$K$13
Name 材料成本差异: 会计科目表!$D$15:$K$15
Name 财务费用: 会计科目表!$D$64:$K$64
Name 持有待售负债: 会计科目表!$D$41:$K$41
Name 持有待售资产: 会计科目表!$D$19:$K$19
Name 待处理财产损溢: 会计科目表!$D$32:$K$32
Name 递延所得税负债: 会计科目表!$D$44:$K$44
Name 递延所得税资产: 会计科目表!$D$31:$K$31
Name 短期借款: 会计科目表!$D$33:$K$33
Name 发出商品: 会计科目表!$D$17:$K$17
Name 固定资产: 会计科目表!$D$25:$K$25
Name 固定资产清理: 会计科目表!$D$27:$K$27
Name 管理费用: 会计科目表!$D$63:$K$63
Name 坏账准备: 会计科目表!$D$12:$K$12
Name 交易性金融资产: 会计科目表!$D$6:$K$6
Name 库存商品: 会计科目表!$D$16:$K$16
Name 库存现金: 会计科目表!$D$3:$K$3
Name 累计摊销: 会计科目表!$D$29:$K$29
Name 累计折旧: 会计科目表!$D$26:$K$26
Name 利润分配: 会计科目表!$D$49:$K$49
Name 其他货币资金: 会计科目表!$D$5:$K$5
Name 其他权益工具: 会计科目表!$D$51:$K$51
Name 其他权益工具投资: 会计科目表!$D$24:$K$24
Name 其他业务成本: 会计科目表!$D$60:$K$60
Name 其他业务收入: 会计科目表!$D$56:$K$56
Name 其他应付款: 会计科目表!$D$40:$K$40
Name 其他应收款: 会计科目表!$D$11:$K$11
Name 其他债权投资: 会计科目表!$D$22:$K$22
Name 其他综合收益: 会计科目表!$D$50:$K$50
Name 生产成本: 会计科目表!$D$53:$K$53
Name 实收资本: 会计科目表!$D$45:$K$45
Name 税金及附加: 会计科目表!$D$61:$K$61
Name 所得税费用: 会计科目表!$D$66:$K$66
Name 投资损益: 会计科目表!$D$57:$K$57
Name 无形资产: 会计科目表!$D$28:$K$28
Name 销售费用: 会计科目表!$D$62:$K$62
Name 银行存款: 会计科目表!$D$4:$K$4
Name 盈余公积: 会计科目表!$D$47:$K$47
Name 营业外收入: 会计科目表!$D$58:$K$58
Name 营业外支出: 会计科目表!$D$65:$K$65
Name 应付利息: 会计科目表!$D$39:$K$39
Name 应付票据: 会计科目表!$D$34:$K$34
Name 应付债券: 会计科目表!$D$43:$K$43
Name 应付账款: 会计科目表!$D$35:$K$35
Name 应付职工薪酬: 会计科目表!$D$37:$K$37
Name 应交税费: 会计科目表!$D$38:$K$38
Name 应收股利: 会计科目表!$D$10:$K$10
Name 应收票据: 会计科目表!$D$7:$K$7
Name 应收账款: 会计科目表!$D$8:$K$8
Name 预付账款: 会计科目表!$D$9:$K$9
Name 预收账款: 会计科目表!$D$36:$K$36
Name 原材料: 会计科目表!$D$14:$K$14
Name 债权投资: 会计科目表!$D$20:$K$20
Name 债权投资减值准备: 会计科目表!$D$21:$K$21
Name 长期待摊费用: 会计科目表!$D$30:$K$30
Name 长期股权投资: 会计科目表!$D$23:$K$23
Name 长期借款: 会计科目表!$D$42:$K$42
Name 制造费用: 会计科目表!$D$54:$K$54
Name 周转材料: 会计科目表!$D$18:$K$18

Sheet 会计凭证封面
C2: 记账凭证
B4: 单位名单
B5: 凭证类别 | C5: □ | D5: 收款凭证 | E5: □ | F5: 付款凭证 | G5: □ | H5: 转帐凭证 | I5: □ | J5: 通用凭证
B6: 凭证起止时间 | C6: 自 | D6: 年 | E6: 月 | F6: 日 | G6: 至 | H6: 年 | I6: 月 | J6: 日
B7: 凭证册数 | C7: 本月共 | E7: 册 | G7: 本册是 | I7: 册
B8: 凭证号数 | C8: 本册自第 | E8: 号至第 | G8: 号 | H8: 本册共 | J8: 号
B9: 财务主管 | F9: 经办会计
B10: 保管年限 | F10: 装订人

Sheet 会计科目表
B1: 会计科目表
B2: 科目编码 | C2: 总账科目 | D2: 明细1 | E2: 明细2 | F2: 明细3 | G2: 明细4 | H2: 明细5 | I2: 明细6 | J2: 明细7 | K2: 明细8
B3: 1001 | C3: 库存现金
B4: 1002 | C4: 银行存款 | D4: 交通银行 | E4: 建设银行
B5: 1015 | C5: 其他货币资金 | D5: 银行本票
B6: 1101 | C6: 交易性金融资产
B7: 1121 | C7: 应收票据
B8: 1122 | C8: 应收账款 | D8: A公司 | E8: B公司
B9: 1123 | C9: 预付账款
B10: 1131 | C10: 应收股利
B11: 1231 | C11: 其他应收款
B12: 1241 | C12: 坏账准备
B13: 1401 | C13: 材料采购
B14: 1403 | C14: 原材料 | D14: A材料 | E14: B材料
B15: 1404 | C15: 材料成本差异
B16: 1406 | C16: 库存商品 | D16: A材料 | E16: B材料
B17: 1407 | C17: 发出商品
B18: 1411 | C18: 周转材料 | D18: 纸箱 | E18: 尼龙绳
B19: 1481 | C19: 持有待售资产
B20: 1505 | C20: 债权投资
B21: 1506 | C21: 债权投资减值准备
B22: 1507 | C22: 其他债权投资
B23: 1511 | C23: 长期股权投资
B24: 1528 | C24: 其他权益工具投资
B25: 1601 | C25: 固定资产
B26: 1602 | C26: 累计折旧
B27: 1606 | C27: 固定资产清理
B28: 1701 | C28: 无形资产
B29: 1702 | C29: 累计摊销
B30: 1801 | C30: 长期待摊费用
... B34: 2201 | C34: 应付票据
B35: 2202 | C35: 应付账款 | D35: 企业一 | E35: 企业二
B36: 2205 | C36: 预收账款
B37: 2211 | C37: 应付职工薪酬 | D37: 工资 | E37: 应付福利费 | F37: 社会保险 | G37: 公积金 | H37: 教育经费 | I37: 工会经费
B38: 2221 | C38: 应交税费 | D38: 应交增值税（进项税额） | E38: 应交增值税（销项税额） | F38: 应交增值税（转出增值税） | G38: 未交增值税 | H38: 应交城市维护建设税 | I38: 应交教育费附加 | J38: 应交地方教育费附加 | K38: 应交个人所得税
B39: 2232 | C39: 应付利息
B40: 2241 | C40: 其他应付款
B41: 2245 | C41: 持有待售负债
B42: 2601 | C42: 长期借款
B43: 2602 | C43: 应付债券
...

Sheet 记账凭证簿
B2: 凭证打印识别码 | C2: 凭证号 | D2: 年度 | E2: 月 | F2: 日 | G2: 凭证类型 | H2: 凭证号码 | I2: 摘要 | J2: 总账科目 | K2: 明细科目 | L2: 借方金额 | M2: 贷方金额 | N2: 附件张数
B3: =C3&COUNTIF($C$3:C3,C3) -> 20××1记11 | C3: =D3&E3&G3&H3 -> 20××1记1 | D3: 20×× | E3: 1 | F3: 1 | G3: 记 | H3: 1 | I3: 提取备用金 | J3: 库存现金 | L3: 2500 | N3: 1
B4: =C4&COUNTIF($C$3:C4,C4) -> 20××1记12 | C4: =D4&E4&G4&H4 -> 20××1记1 | D4: 20×× | E4: 1 | F4: 1 | G4: 记 | H4: 1 | I4: 提取备用金 | J4: 银行存款 | K4: 交通银行 | M4: 2500 | N4: 1
B5: =C5&COUNTIF($C$3:C5,C5) -> 20××1记21 | C5: =D5&E5&G5&H5 -> 20××1记2 | D5: 20×× | E5: 1 | F5: 2 | G5: 记 | H5: 2 | I5: 销售商品款未收 | J5: 应收账款 | K5: A公司 | L5: 22600 | N5: 3
B6: =C6&COUNTIF($C$3:C6,C6) -> 20××1记22 | C6: =D6&E6&G6&H6 -> 20××1记2 | D6: 20×× | E6: 1 | F6: 2 | G6: 记 | H6: 2 | I6: 销售商品款未收 | J6: 主营业收入 | K6: 甲产品 | M6: 20000 | N6: 3
B7: =C7&COUNTIF($C$3:C7,C7) -> 20××1记23 | C7: =D7&E7&G7&H7 -> 20××1记2 | D7: 20×× | E7: 1 | F7: 2 | G7: 记 | H7: 2 | I7: 销售商品款未收 | J7: 应交税费 | K7: 应交增值税——销项税额 | M7: 2600 | N7: 3
B8: =C8&COUNTIF($C$3:C8,C8) -> 20××1记31 | C8: =D8&E8&G8&H8 -> 20××1记3 | D8: 20×× | E8: 1 | F8: 5 | G8: 记 | H8: 3 | I8: 采购原材料 | J8: 原材料 | K8: B材料 | L8: 12000 | N8: 4
B9: =C9&COUNTIF($C$3:C9,C9) -> 20××1记32 | C9: =D9&E9&G9&H9 -> 20××1记3 | D9: 20×× | E9: 1 | F9: 5 | G9: 记 | H9: 3 | I9: 采购原材料 | J9: 应交税费 | K9: 应交增值税——进项税额 | L9: 1560 | N9: 4
B10: =C10&COUNTIF($C$3:C10,C10) -> 20××1记33 | C10: =D10&E10&G10&H10 -> 20××1记3 | D10: 20×× | E10: 1 | F10: 5 | G10: 记 | H10: 3 | I10: 采购原材料 | J10: 银行存款 | K10: 交通银行 | M10: 1356 | N10: 4
B11: =C11&COUNTIF($C$3:C11,C11) -> 20××1记41 | C11: =D11&E11&G11&H11 -> 20××1记4 | D11: 20×× | E11: 1 | F11: 10 | G11: 记 | H11: 4 | I11: 购买办公用品 | J11: 管理费用 | K11: 办公费 | L11: 500 | N11: 2
B12: =C12&COUNTIF($C$3:C12,C12) -> 20××1记42 | C12: =D12&E12&G12&H12 -> 20××1记4 | D12: 20×× | E12: 1 | F12: 10 | G12: 记 | H12: 4 | I12: 购买办公用品 | J12: 库存现金 | M12: 500 | N12: 2
B13: =C13&COUNTIF($C$3:C13,C13) -> 20××1记51 | C13: =D13&E13&G13&H13 -> 20××1记5 | D13: 20×× | E13: 1 | F13: 12 | G13: 记 | H13: 5 | I13: 收回前欠货款 | J13: 应收账款 | K13: A公司 | M13: 22600 | N13: 1
B14: =C14&COUNTIF($C$3:C14,C14) -> 20××1记52 | C14: =D14&E14&G14&H14 -> 20××1记5 | D14: 20×× | E14: 1 | F14: 12 | G14: 记 | H14: 5 | I14: 收回前欠货款 | J14: 银行存款 | K14: 交通银行 | L14: 22600 | N14: 1
B15: =C15&COUNTIF($C$3:C15,C15) -> 20××1记61 | C15: =D15&E15&G15&H15 -> 20××1记6 | D15: 20×× | E15: 1 | F15: 15 | G15: 记 | H15: 6 | I15: 支付上月工资 | J15: 应付职工薪酬 | K15: 工资 | L15: 16500 | N15: 2
B16: =C16&COUNTIF($C$3:C16,C16) -> 20××1记62 | C16: =D16&E16&G16&H16 -> 20××1记6 | D16: 20×× | E16: 1 | F16: 15 | G16: 记 | H16: 6 | I16: 支付上月工资 | J16: 银行存款 | K16: 交通银行 | M16: 16500 | N16: 2
B17: =C17&COUNTIF($C$3:C17,C17) -> 20××1记71 | C17: =D17&E17&G17&H17 -> 20××1记7 | D17: 20×× | E17: 1 | F17: 18 | G17: 记 | H17: 7 | I17: 购买软件升级包 | J17: 无形资产 | L17: 12000 | N17: 5
B18: =C18&COUNTIF($C$3:C18,C18) -> 20××1记72 | C18: =D18&E18&G18&H18 -> 20××1记7 | D18: 20×× | E18: 1 | F18: 18 | G18: 记 | H18: 7 | I18: 购买软件升级包 | J18: 银行存款 | K18: 交通银行 | M18: 12000 | N18: 5
B19: =C19&COUNTIF($C$3:C19,C19) -> 20××1记81 | C19: =D19&E19&G19&H19 -> 20××1记8 | D19: 20×× | E19: 1 | F19: 22 | G19: 记 | H19: 8 | I19: 利息收入 | J19: 财务费用 | K19: 利息收入 | M19: 50 | N19: 1
B20: =C20&COUNTIF($C$3:C20,C20) -> 20××1记82 | C20: =D20&E20&G20&H20 -> 20××1记8 | D20: 20×× | E20: 1 | F20: 22 | G20: 记 | H20: 8 | I20: 利息收入 | J20: 银行存款 | K20: 交通银行 | L20: 50 | N20: 1
B21: =C21&COUNTIF($C$3:C21,C21) -> 20××1记91 | C21: =D21&E21&G21&H21 -> 20××1记9 | D21: 20×× | E21: 1 | F21: 31 | G21: 记 | H21: 9 | I21: 结转销售成本 | J21: 主营业成本 | K21: 甲产品 | L21: 13000 | N21: 1
B22: =C22&COUNTIF($C$3:C22,C22) -> 20××1记92 | C22: =D22&E22&G22&H22 -> 20××1记9 | D22: 20×× | E22: 1 | F22: 31 | G22: 记 | H22: 9 | I22: 结转销售成本 | J22: 库存商品 | K22: 甲产品 | M22: 13000 | N22: 1
B23: =C23&COUNTIF($C$3:C23,C23) -> 20××1记101 | C23: =D23&E23&G23&H23 -> 20××1记10 | D23: 20×× | E23: 1 | F23: 31 | G23: 记 | H23: 10 | I23: 结转增值税 | J23: 应交税费 | K23: 应交增值税——转出增值税 | L23: 1040 | N23: 1
B24: =C24&COUNTIF($C$3:C24,C24) -> 20××1记102 | C24: =D24&E24&G24&H24 -> 20××1记10 | D24: 20×× | E24: 1 | F24: 31 | G24: 记 | H24: 10 | I24: 结转增值税 | J24: 应交税费 | K24: 未交增值税 | M24: 1040 | N24: 1
B25: =C25&COUNTIF($C$3:C25,C25) -> 20××1记111 | C25: =D25&E25&G25&H25 -> 20××1记11 | D25: 20×× | E25: 1 | F25: 31 | G25: 记 | H25: 11 | I25: 结转期间损益 | J25: 主营业收入 | K25: 甲产品 | L25: 20000 | N25: 1
B26: =C26&COUNTIF($C$3:C26,C26) -> 20××1记112 | C26: =D26&E26&G26&H26 -> 20××1记11 | D26: 20×× | E26: 1 | F26: 31 | G26: 记 | H26: 11 | I26: 结转期间损益 | J26: 主营业成本 | K26: 甲产品 | M26: 13000 | N26: 0
B27: =C27&COUNTIF($C$3:C27,C27) -> 20××1记113 | C27: =D27&E27&G27&H27 -> 20××1记11 | D27: 20×× | E27: 1 | F27: 31 | G27: 记 | H27: 11 | I27: 结转期间损益 | J27: 管理费用 | K27: 办公费 | M27: 500 | N27: 0
B28: =C28&COUNTIF($C$3:C28,C28) -> 20××1记114 | C28: =D28&E28&G28&H28 -> 20××1记11 | D28: 20×× | E28: 1 | F28: 31 | G28: 记 | H28: 11 | I28: 结转期间损益 | J28: 财务费用 | K28: 利息收入 | L28: 50 | N28: 0
B29: =C29&COUNTIF($C$3:C29,C29) -> 20××1记115 | C29: =D29&E29&G29&H29 -> 20××1记11 | D29: 20×× | E29: 1 | F29: 31 | G29: 记 | H29: 11 | I29: 结转期间损益 | J29: 本年利润 | M29: 6550 | N29: 0

Sheet 凭证打印识别码
C2: 注意： | E2: =IF(AND(I12=0,K12=0),IF(I12<>K12,"借贷未平","借贷平衡")) -> 借贷平衡 | I2: 年份 | J2: 20×× | K2: 月份 | M2: 凭证类型 | O2: 凭证号
D3: 记 账 凭 证
G4: =G4=J2&"年"&L2&"月"&IFERROR(VLOOKUP(Q7,记账凭证簿!B:F,5,0),"")&"日" -> 0 | L4: 字第 | N4: 号
D5: 摘 要 | G5: 会 计 科 目 | I5: 借 方 金 额 | K5: 贷 方 金 额 | N5: 记账√
G6: 总 账 科 目 | H6: 明 细 科 目
D7: =IFERROR(VLOOKUP(Q7,记账凭证簿!B:L,8,0),"") | G7: =IFERROR(VLOOKUP(Q7,记账凭证簿!B:L,9,0),"") | H7: =IFERROR(VLOOKUP(Q7,记账凭证簿!B:L,10,0),"") | I7: =IFERROR(VLOOKUP(Q7,记账凭证簿!B:M,11,0),"") | K7: =IFERROR(VLOOKUP(Q7,记账凭证簿!B:M,12,0),"") | O7: 附 | P7: 1 | Q7: =$J$2&$L$2&$N$2&$P$2&P7 -> 20××1
D8: =IFERROR(VLOOKUP(Q8,记账凭证簿!B:L,8,0),"") | G8: =IFERROR(VLOOKUP(Q7,记账凭证簿!B:L,9,0),"") | O8: 单 | P8: 2 | Q8: =$J$2&$L$2&$N$2&$P$2&P8 -> 20××2
O9: 据 | P9: 3 | Q9: =$J$2&$L$2&$N$2&$P$2&P9 -> 20××3
P10: 4 | Q10: =$J$2&$L$2&$N$2&$P$2&P10 -> 20××4
O11: 张 | P11: 5 | Q11: =$J$2&$L$2&$N$2&$P$2&P11 -> 20××5
D12: 合 计
D13: 主管： | F13: 记账： | H13: 出纳： | J13: 审核： | L13: 制单：
