Workbook
Name A材料: '01'!$D$14:$K$14
Name A公司: '01'!$D$8:$K$8
Name 办公费: '01'!$D$63:$K$63
Name 本年利润: 会计科目表!$D$48:$K$48
Name 本年利润: '01'!$C$48:$K$48
Name 材料采购: 会计科目表!$D$13:$K$13
Name 材料采购: '01'!$C$13:$K$13
Name 材料成本差异: 会计科目表!$D$15:$K$15
Name 材料成本差异: '01'!$C$15:$K$15
Name 财务费用: 会计科目表!$D$64:$K$64
Name 财务费用: '01'!$C$64:$K$64
Name 持有待售负债: 会计科目表!$D$41:$K$41
Name 持有待售负债: '01'!$C$41:$K$41
Name 持有待售资产: 会计科目表!$D$19:$K$19
Name 持有待售资产: '01'!$C$19:$K$19
Name 待处理财产损溢: 会计科目表!$D$32:$K$32
Name 待处理财产损溢: '01'!$C$32:$K$32
Name 递延所得税负债: 会计科目表!$D$44:$K$44
Name 递延所得税负债: '01'!$C$44:$K$44
Name 递延所得税资产: 会计科目表!$D$31:$K$31
Name 递延所得税资产: '01'!$C$31:$K$31
Name 短期借款: 会计科目表!$D$33:$K$33
Name 短期借款: '01'!$C$33:$K$33
Name 发出商品: 会计科目表!$D$17:$K$17
Name 发出商品: '01'!$C$17:$K$17
Name 工资: '01'!$D$37:$K$37
Name 固定资产: 会计科目表!$D$25:$K$25
Name 固定资产: '01'!$C$25:$K$25
Name 固定资产清理: 会计科目表!$D$27:$K$27
Name 固定资产清理: '01'!$C$27:$K$27
Name 管理费用: 会计科目表!$D$63:$K$63
Name 管理费用: '01'!$C$63:$K$63
Name 坏账准备: 会计科目表!$D$12:$K$12
Name 坏账准备: '01'!$C$12:$K$12
Name 甲产品: '01'!$D$59:$K$59
Name 交通银行: '01'!$D$4:$K$4
Name 交易性金融资产: 会计科目表!$D$6:$K$6
Name 交易性金融资产: '01'!$C$6:$K$6
Name 库存商品: 会计科目表!$D$16:$K$16
Name 库存商品: '01'!$C$16:$K$16
Name 库存现金: 会计科目表!$D$3:$K$3
Name 库存现金: '01'!$C$3:$K$3
Name 累计摊销: 会计科目表!$D$29:$K$29
Name 累计摊销: '01'!$C$29:$K$29
Name 累计折旧: 会计科目表!$D$26:$K$26
Name 累计折旧: '01'!$C$26:$K$26
Name 利润分配: 会计科目表!$D$49:$K$49
Name 利润分配: '01'!$C$49:$K$49
Name 明细1: '01'!$D$2:$K$2
Name 其他货币资金: 会计科目表!$D$5:$K$5
Name 其他货币资金: '01'!$C$5:$K$5
Name 其他权益工具: 会计科目表!$D$51:$K$51
Name 其他权益工具: '01'!$C$51:$K$51
Name 其他权益工具投资: 会计科目表!$D$24:$K$24
Name 其他权益工具投资: '01'!$C$24:$K$24
Name 其他业务成本: 会计科目表!$D$60:$K$60
Name 其他业务成本: '01'!$C$60:$K$60
Name 其他业务收入: 会计科目表!$D$56:$K$56
Name 其他业务收入: '01'!$C$56:$K$56
Name 其他应付款: 会计科目表!$D$40:$K$40

Sheet 会计凭证封面
B2: 记账凭证
B4: 单位名称
B5: 凭证类别 | C5: □ | D5: 收款凭证 | E5: □ | F5: 付款凭证 | G5: □ | H5: 转账凭证 | I5: □ | J5: 通用凭证
B6: 凭证起止时间 | C6: 自 | D6: 年 | E6: 月 | F6: 日 | G6: 至 | H6: 年 | I6: 月 | J6: 日
B7: 凭证册数 | C7: 本月是 | E7: 册 | G7: 本册是 | I7: 册
B8: 凭证号数 | C8: 本册自第 | E8: 号至第 | G8: 号 | H8: 本册共有 | J8: 号
B9: 财务主管 | G9: 经办会计
B10: 保管年限 | G10: 装订人

Sheet 01
A1: 会计科目表
A2: 科目编码 | B2: 总账科目 | C2: 明细1 | D2: 明细2 | E2: 明细3 | F2: 明细4 | G2: 明细4 | H2: 明细6 | I2: 明细7 | J2: 明细8
A3: 1001 | B3: 库存现金
A4: 1002 | B4: 银行存款 | C4: 交通银行 | D4: 建设银行
A5: 1015 | B5: 其他货币资金 | C5: 银行本票
A6: 1101 | B6: 交易性金融资产
A7: 1121 | B7: 应收票据
A8: 1122 | B8: 应收账款 | C8: A公司 | D8: B公司
A9: 1123 | B9: 预付账款
A10: 1131 | B10: 应收股利
A11: 1231 | B11: 其他应收款
A12: 1241 | B12: 坏账准备
A13: 1401 | B13: 材料采购
A14: 1403 | B14: 原材料 | C14: A材料 | D14: B材料
A15: 1404 | B15: 材料成本差异
A16: 1406 | B16: 库存商品 | C16: 甲产品 | D16: 乙产品
A17: 1407 | B17: 发出商品
A18: 1411 | B18: 周转材料 | C18: 纸箱 | D18: 尼龙绳
A19: 1481 | B19: 持有待售资产
A20: 1505 | B20: 债权投资
A21: 1506 | B21: 债权投资减值准备
A22: 1507 | B22: 其他债权投资
A23: 1511 | B23: 长期股权投资
A24: 1528 | B24: 其他权益工具投资
A25: 1601 | B25: 固定资产
A26: 1602 | B26: 累计折旧
A27: 1606 | B27: 固定资产清理
A28: 1701 | B28: 无形资产
A29: 1702 | B29: 累计摊销
A30: 1801 | B30: 长期待摊费用
... A34: 2201 | B34: 应付票据
A35: 2202 | B35: 应付账款 | C35: 企业一 | D35: 企业二
A36: 2205 | B36: 预收账款
A37: 2211 | B37: 应付职工薪酬 | C37: 工资 | D37: 应付福利费 | E37: 社会保险 | F37: 公积金 | G37: 教育经费 | H37: 工会经费
A38: 2221 | B38: 应交税费 | C38: 应交增值税（进项税额） | D38: 应交增值税（销项税额） | E38: 应交增值税（转出增值税） | F38: 未交增值税 | G38: 应交城市维护建设税 | H38: 应交教育费附加 | I38: 应交地方教育费附加 | J38: 应交个人所得税
A39: 2232 | B39: 应付利息
A40: 2241 | B40: 其他应付款
A41: 2245 | B41: 持有待售负债
A42: 2601 | B42: 长期借款
A43: 2602 | B43: 应付债券
...

Sheet 会计科目表
B2: 科目编码 | C2: 总账科目 | D2: 明细1 | E2: 明细2 | F2: 明细3 | G2: 明细4 | H2: 明细4 | I2: 明细6 | J2: 明细7 | K2: 明细8
B3: 1001 | C3: 库存现金
B4: 1002 | C4: 银行存款 | D4: 交通银行 | E4: 建设银行
B5: 1015 | C5: 其他货币资金 | D5: 银行本票
B6: 1101 | C6: 交易性金融资产
B7: 1121 | C7: 应收票据
B8: 1122 | C8: 应收账款 | D8: A公司 | E8: B公司
B9: 1123 | C9: 预付账款
B10: 1131 | C10: 应收股利
B11: 1231 | C11: 其他应收款
B12: 1241 | C12: 坏账准备
B13: 1401 | C13: 材料采购
B14: 1403 | C14: 原材料 | D14: A材料 | E14: B材料
B15: 1404 | C15: 材料成本差异
B16: 1406 | C16: 库存商品 | D16: 甲产品 | E16: 乙产品
B17: 1407 | C17: 发出商品
B18: 1411 | C18: 周转材料 | D18: 纸箱 | E18: 尼龙绳
B19: 1481 | C19: 持有待售资产
B20: 1505 | C20: 债权投资
B21: 1506 | C21: 债权投资减值准备
B22: 1507 | C22: 其他债权投资
B23: 1511 | C23: 长期股权投资
B24: 1528 | C24: 其他权益工具投资
B25: 1601 | C25: 固定资产
B26: 1602 | C26: 累计折旧
B27: 1606 | C27: 固定资产清理
B28: 1701 | C28: 无形资产
B29: 1702 | C29: 累计摊销
B30: 1801 | C30: 长期待摊费用
... B34: 2201 | C34: 应付票据
B35: 2202 | C35: 应付账款 | D35: 企业一 | E35: 企业二
B36: 2205 | C36: 预收账款
B37: 2211 | C37: 应付职工薪酬 | D37: 工资 | E37: 应付福利费 | F37: 社会保险 | G37: 公积金 | H37: 教育经费 | I37: 工会经费
B38: 2221 | C38: 应交税费 | D38: 应交增值税（进项税额） | E38: 应交增值税（销项税额） | F38: 应交增值税（转出增值税） | G38: 未交增值税 | H38: 应交城市维护建设税 | I38: 应交教育费附加 | J38: 应交地方教育费附加 | K38: 应交个人所得税
B39: 2232 | C39: 应付利息
B40: 2241 | C40: 其他应付款
B41: 2245 | C41: 持有待售负债
B42: 2601 | C42: 长期借款
B43: 2602 | C43: 应付债券
B44: 2901 | C44: 递延所得税负债
...

Sheet 记账工作簿
B2: 凭证打印识别码 | C2: 凭证号 | D2: 年度 | E2: 月 | F2: 日 | G2: 凭证类型 | H2: 凭证号码 | I2: 摘要 | J2: 总账科目 | K2: 明细科目 | L2: 借方金额 | M2: 贷方金额 | N2: 附件张数
B3: =C4&COUNTIF($C$3:C3,C3) -> 20××1记11 | C3: =D3&E3&G3&H3 -> 20××1记1 | D3: 20×× | E3: 1 | F3: 1 | G3: 记 | H3: 1 | I3: 提取备用金 | J3: 库存现金 | L3: 2500 | N3: 1
B4: =C5&COUNTIF($C$3:C4,C4) -> 20××1记22 | C4: =D4&E4&G4&H4 -> 20××1记1 | D4: 20×× | E4: 1 | F4: 1 | G4: 记 | H4: 1 | I4: 提取备用金 | J4: 银行存款 | K4: 交通银行 | M4: 2500 | N4: 1
B5: =C5&COUNTIF($C$3:C5,C5) -> 20××1记21 | C5: =D5&E5&G5&H5 -> 20××1记2 | D5: 20×× | E5: 1 | F5: 2 | G5: 记 | H5: 2 | I5: 销售商品款未收 | J5: 应收账款 | K5: A公司 | L5: 22600 | N5: 3
B6: =C6&COUNTIF($C$3:C6,C6) -> 20××1记22 | C6: =D6&E6&G6&H6 -> 20××1记2 | D6: 20×× | E6: 1 | F6: 2 | G6: 记 | H6: 2 | I6: 销售商品款未收 | J6: 主营业务收入 | K6: 甲产品 | M6: 20000 | N6: 3
B7: =C7&COUNTIF($C$3:C7,C7) -> 20××1记23 | C7: =D7&E7&G7&H7 -> 20××1记2 | D7: 20×× | E7: 1 | F7: 2 | G7: 记 | H7: 2 | I7: 销售商品款未收 | J7: 应交税费 | K7: 应交增值税（销项税额） | M7: 2600 | N7: 3
B8: =C8&COUNTIF($C$3:C8,C8) -> 20××1记31 | C8: =D8&E8&G8&H8 -> 20××1记3 | D8: 20×× | E8: 1 | F8: 5 | G8: 记 | H8: 3 | I8: 采购原材料 | J8: 原材料 | K8: B材料 | L8: 12000 | N8: 4
B9: =C9&COUNTIF($C$3:C9,C9) -> 20××1记32 | C9: =D9&E9&G9&H9 -> 20××1记3 | D9: 20×× | E9: 1 | F9: 5 | G9: 记 | H9: 3 | I9: 采购原材料 | J9: 应交税费 | K9: 应交增值税（进项税额） | L9: 1560 | N9: 4
B10: =C10&COUNTIF($C$3:C10,C10) -> 20××1记33 | C10: =D10&E10&G10&H10 -> 20××1记3 | D10: 20×× | E10: 1 | F10: 5 | G10: 记 | H10: 3 | I10: 采购原材料 | J10: 银行存款 | K10: 交通银行 | M10: 13560 | N10: 4
B11: =C11&COUNTIF($C$3:C11,C11) -> 20××1记41 | C11: =D11&E11&G11&H11 -> 20××1记4 | D11: 20×× | E11: 1 | F11: 10 | G11: 记 | H11: 4 | I11: 采购办公用品 | J11: 管理费用 | K11: 办公费 | L11: 500 | N11: 2
B12: =C12&COUNTIF($C$3:C12,C12) -> 20××1记42 | C12: =D12&E12&G12&H12 -> 20××1记4 | D12: 20×× | E12: 1 | F12: 10 | G12: 记 | H12: 4 | I12: 采购办公用品 | J12: 库存现金 | M12: 500 | N12: 2
B13: =C13&COUNTIF($C$3:C13,C13) -> 20××1记51 | C13: =D13&E13&G13&H13 -> 20××1记5 | D13: 20×× | E13: 1 | F13: 12 | G13: 记 | H13: 5 | I13: 收回前欠货款 | J13: 应收账款 | K13: A公司 | M13: 22600 | N13: 1
B14: =C14&COUNTIF($C$3:C14,C14) -> 20××1记52 | C14: =D14&E14&G14&H14 -> 20××1记5 | D14: 20×× | E14: 1 | F14: 12 | G14: 记 | H14: 5 | I14: 收回前欠货款 | J14: 银行存款 | K14: 交通银行 | L14: 22600 | N14: 1
B15: =C15&COUNTIF($C$3:C15,C15) -> 20××1记61 | C15: =D15&E15&G15&H15 -> 20××1记6 | D15: 20×× | E15: 1 | F15: 15 | G15: 记 | H15: 6 | I15: 支付上月工资 | J15: 应付职工薪酬 | K15: 工资 | L15: 16500 | N15: 2
B16: =C16&COUNTIF($C$3:C16,C16) -> 20××1记62 | C16: =D16&E16&G16&H16 -> 20××1记6 | D16: 20×× | E16: 1 | F16: 15 | G16: 记 | H16: 6 | I16: 支付上月工资 | J16: 银行存款 | K16: 交通银行 | M16: 16500 | N16: 2
B17: =C17&COUNTIF($C$3:C17,C17) -> 20××1记71 | C17: =D17&E17&G17&H17 -> 20××1记7 | D17: 20×× | E17: 1 | F17: 18 | G17: 记 | H17: 7 | I17: 购买软件升级包 | J17: 无形资产 | L17: 12000 | N17: 5
B18: =C18&COUNTIF($C$3:C18,C18) -> 20××1记72 | C18: =D18&E18&G18&H18 -> 20××1记7 | D18: 20×× | E18: 1 | F18: 18 | G18: 记 | H18: 7 | I18: 购买软件升级包 | J18: 银行存款 | K18: 交通银行 | M18: 12000 | N18: 5
B19: =C19&COUNTIF($C$3:C19,C19) -> 20××1记81 | C19: =D19&E19&G19&H19 -> 20××1记8 | D19: 20×× | E19: 1 | F19: 22 | G19: 记 | H19: 8 | I19: 利息收入 | J19: 财务费用 | K19: 利息收入 | M19: 50 | N19: 1
B20: =C20&COUNTIF($C$3:C20,C20) -> 20××1记82 | C20: =D20&E20&G20&H20 -> 20××1记8 | D20: 20×× | E20: 1 | F20: 22 | G20: 记 | H20: 8 | I20: 利息收入 | J20: 银行存款 | K20: 交通银行 | L20: 50 | N20: 1
B21: =C21&COUNTIF($C$3:C21,C21) -> 20××1记91 | C21: =D21&E21&G21&H21 -> 20××1记9 | D21: 20×× | E21: 1 | F21: 31 | G21: 记 | H21: 9 | I21: 结转销售成本 | J21: 主营业务收入 | K21: 甲产品 | L21: 13000 | N21: 1
B22: =C22&COUNTIF($C$3:C22,C22) -> 20××1记92 | C22: =D22&E22&G22&H22 -> 20××1记9 | D22: 20×× | E22: 1 | F22: 31 | G22: 记 | H22: 9 | I22: 结转销售成本 | J22: 库存商品 | K22: 甲产品 | M22: 13000 | N22: 1
B23: =C23&COUNTIF($C$3:C23,C23) -> 20××1记101 | C23: =D23&E23&G23&H23 -> 20××1记10 | D23: 20×× | E23: 1 | F23: 31 | G23: 记 | H23: 10 | I23: 结转增值税 | J23: 应交税费 | K23: 应交增值税（转出增值税） | L23: 1040 | N23: 1
B24: =C24&COUNTIF($C$3:C24,C24) -> 20××1记102 | C24: =D24&E24&G24&H24 -> 20××1记10 | D24: 20×× | E24: 1 | F24: 31 | G24: 记 | H24: 10 | I24: 结转增值税 | J24: 应交税费 | K24: 未交增值税 | M24: 1040 | N24: 1
B25: =C25&COUNTIF($C$3:C25,C25) -> 20××1记111 | C25: =D25&E25&G25&H25 -> 20××1记11 | D25: 20×× | E25: 1 | F25: 31 | G25: 记 | H25: 11 | I25: 结转期间损益 | J25: 主营业务收入 | K25: 甲产品 | L25: 20000 | N25: 0
B26: =C26&COUNTIF($C$3:C26,C26) -> 20××1记112 | C26: =D26&E26&G26&H26 -> 20××1记11 | D26: 20×× | E26: 1 | F26: 31 | G26: 记 | H26: 11 | I26: 结转期间损益 | J26: 主营业务成本 | K26: 甲产品 | M26: 13000 | N26: 0
B27: =C27&COUNTIF($C$3:C27,C27) -> 20××1记113 | C27: =D27&E27&G27&H27 -> 20××1记11 | D27: 20×× | E27: 1 | F27: 31 | G27: 记 | H27: 11 | I27: 结转期间损益 | J27: 管理费用 | K27: 办公费 | M27: 500 | N27: 0
B28: =C28&COUNTIF($C$3:C28,C28) -> 20××1记114 | C28: =D28&E28&G28&H28 -> 20××1记11 | D28: 20×× | E28: 1 | F28: 31 | G28: 记 | H28: 11 | I28: 结转期间损益 | J28: 财务费用 | K28: 利息收入 | L28: 50 | N28: 0
B29: =C29&COUNTIF($C$3:C29,C29) -> 20××1记115 | C29: =D29&E29&G29&H29 -> 20××1记11 | D29: 20×× | E29: 1 | F29: 31 | G29: 记 | H29: 11 | I29: 结转期间损益 | J29: 本年利润 | M29: 6550 | N29: 0

Sheet 凭证打印模版
C2: 注意 | E2: =IF(AND(I12=0,K12=0),IF(I12<>K12,"借贷未平","借贷平衡")) -> 借贷平衡 | I2: 年份 | J2: 20** | K2: 月份 | L2: 1 | M2: 凭证类型 | N2: 记 | O2: 凭证号 | P2: 2
D3: 记 账 凭 证
G4: =J2&"年"&L2&"月"&IFERROR(VLOOKUP(Q7,记账工作簿!B:F,5,0),"")&"日" -> 20**年1月2日 | L4: 字第 | N4: 号
D5: 摘 要 | G5: 会 计 科 目 | I5: 借 方 金 额 | K5: 贷 方 金 额 | N5: 记账√
G6: 总 账 科 目 | H6: 明 细 科 目
D7: =IFERROR(VLOOKUP(Q7,记账工作簿!B:L,8,0),"") -> 销售商品款未收 | G7: =IFERROR(VLOOKUP(Q7,记账工作簿!B:L,9,0),"") -> 应收账款 | H7: =IF(IFERROR(VLOOKUP(Q7,记账工作簿!B:L,10,0),"")=0,"",IFERROR(VLOOKUP(Q7,记账工作簿!B:L,10,0),"")) -> A公司 | I7: =IF(IFERROR(VLOOKUP(Q7,记账工作簿!B:M,11,0),"")=0,"",IFERROR(VLOOKUP(Q7,记账工作簿!B:M,11,0),"")) -> 22600 | K7: =IF(IFERROR(VLOOKUP(Q7,记账工作簿!B:M,12,0),"")=0,"",IFERROR(VLOOKUP(Q7,记账工作簿!B:M,12,0),"")) | O7: 附 | P7: 1 | Q7: =$J$2&$L$2&$N$2&$P$2&P7 -> 20**1记21
D8: =IFERROR(VLOOKUP(Q8,记账工作簿!B:L,8,0),"") -> 提取备用金 | G8: =IFERROR(VLOOKUP(Q8,记账工作簿!B:L,9,0),"") -> 银行存款 | H8: =IF(IFERROR(VLOOKUP(Q8,记账工作簿!B:L,10,0),"")=0,"",IFERROR(VLOOKUP(Q8,记账工作簿!B:L,10,0),"")) -> 交通银行 | I8: =IF(IFERROR(VLOOKUP(Q8,记账工作簿!B:M,11,0),"")=0,"",IFERROR(VLOOKUP(Q8,记账工作簿!B:M,11,0),"")) | K8: =IF(IFERROR(VLOOKUP(Q8,记账工作簿!B:M,12,0),"")=0,"",IFERROR(VLOOKUP(Q8,记账工作簿!B:M,12,0),"")) -> 2500 | O8: 单 | P8: 2 | Q8: =$J$2&$L$2&$N$2&$P$2&P8 -> 20**1记22
D9: =IFERROR(VLOOKUP(Q9,记账工作簿!B:L,8,0),"") -> 销售商品款未收 | G9: =IFERROR(VLOOKUP(Q9,记账工作簿!B:L,9,0),"") -> 应交税费 | H9: =IF(IFERROR(VLOOKUP(Q9,记账工作簿!B:L,10,0),"")=0,"",IFERROR(VLOOKUP(Q9,记账工作簿!B:L,10,0),"")) -> 应交增值税（销项税额） | I9: =IF(IFERROR(VLOOKUP(Q9,记账工作簿!B:M,11,0),"")=0,"",IFERROR(VLOOKUP(Q9,记账工作簿!B:M,11,0),"")) | K9: =IF(IFERROR(VLOOKUP(Q9,记账工作簿!B:M,12,0),"")=0,"",IFERROR(VLOOKUP(Q9,记账工作簿!B:M,12,0),"")) -> 2600 | O9: 据 | P9: 3 | Q9: =$J$2&$L$2&$N$2&$P$2&P9 -> 20**1记23
D10: =IFERROR(VLOOKUP(Q10,记账工作簿!B:L,8,0),"") | G10: =IFERROR(VLOOKUP(Q10,记账工作簿!B:L,9,0),"") | H10: =IF(IFERROR(VLOOKUP(Q10,记账工作簿!B:L,10,0),"")=0,"",IFERROR(VLOOKUP(Q10,记账工作簿!B:L,10,0),"")) | I10: =IF(IFERROR(VLOOKUP(Q10,记账工作簿!B:M,11,0),"")=0,"",IFERROR(VLOOKUP(Q10,记账工作簿!B:M,11,0),"")) | K10: =IF(IFERROR(VLOOKUP(Q10,记账工作簿!B:M,12,0),"")=0,"",IFERROR(VLOOKUP(Q10,记账工作簿!B:M,12,0),"")) | O10: =IFERROR(VLOOKUP(Q7,记账工作簿!B:N,13,0),"") -> 3 | P10: 4 | Q10: =$J$2&$L$2&$N$2&$P$2&P10 -> 20**1记24
D11: =IFERROR(VLOOKUP(Q11,记账工作簿!B:L,8,0),"") | G11: =IFERROR(VLOOKUP(Q11,记账工作簿!B:L,9,0),"") | H11: =IF(IFERROR(VLOOKUP(Q11,记账工作簿!B:L,10,0),"")=0,"",IFERROR(VLOOKUP(Q11,记账工作簿!B:L,10,0),"")) | I11: =IF(IFERROR(VLOOKUP(Q11,记账工作簿!B:M,11,0),"")=0,"",IFERROR(VLOOKUP(Q11,记账工作簿!B:M,11,0),"")) | K11: =IF(IFERROR(VLOOKUP(Q11,记账工作簿!B:M,12,0),"")=0,"",IFERROR(VLOOKUP(Q11,记账工作簿!B:M,12,0),"")) | O11: 张 | P11: 5 | Q11: =$J$2&$L$2&$N$2&$P$2&P11 -> 20**1记25
D12: 合 计
D13: 主管： | F13: 记账： | H13: 出纳： | J13: 审核： | L13: 制单：

Sheet 银行存款日记账
D2: 银行存款日记账
B3: 编制单位： | L3: 单位/元
B4: =VLOOKUP(A7,记账工作簿!B:N,3,0) -> 20×× | D4: 凭证 | F4: 摘要 | G4: 借方 | H4: √ | I4: 贷方 | J4: √ | K4: 借贷 | L4: 余额 | M4: √
B5: 月 | C5: 日 | D5: 字 | E5: 号
B6: 1 | C6: 1 | G6: =IF(IFERROR(VLOOKUP("银行存款",期初余额及发生额!C:BB,$B$6*4-1,0),"")=0,0,IFERROR(VLOOKUP("银行存款",期初余额及发生额!C:BB,$B$6*4-1,0),"")) -> 502054 | I6: =IF(IFERROR(VLOOKUP("银行存款",期初余额及发生额!C:BB,$B$6*4,0),"")=0,0,IFERROR(VLOOKUP("银行存款",期初余额及发生额!C:BB,$B$6*4,0),"")) -> 0 | K6: =IF(L6>0,"借",IF(L6=0,"平","错误")) -> 借 | L6: =G6-I6 -> 502054
A7: 20××1记22 | B7: =IFERROR(VLOOKUP($A7,记账工作簿!$B:$N,4,0),"") -> 1 | C7: =IFERROR(VLOOKUP($A7,记账工作簿!$B:$N,5,0),"") -> 1 | D7: =IFERROR(VLOOKUP($A7,记账工作簿!$B:$N,6,0),"") -> 记 | E7: =IFERROR(VLOOKUP($A7,记账工作簿!$B:$N,7,0),"") -> 1 | F7: =IFERROR(VLOOKUP($A7,记账工作簿!$B:$N,8,0),"") -> 提取备用金 | G7: =IF(IFERROR(VLOOKUP($A7,记账工作簿!$B:$N,11,0),"")=0,0,IFERROR(VLOOKUP($A7,记账工作簿!$B:$N,11,0),"")) -> 0 | H7: =IF(G7=0,"","√") | I7: =IF(IFERROR(VLOOKUP($A7,记账工作簿!$B:$N,12,0),"")=0,0,IFERROR(VLOOKUP($A7,记账工作簿!$B:$N,12,0),"")) -> 2500 | J7: =IF(I7=0,"","√") -> √ | K7: =IF(L7>0,"借",IF(L7=0,"平","错误")) -> 借 | L7: =L6+G7-I7 -> 499554 | M7: =IF(L7=0,"","√") -> √
A8: 20××1记33 | B8: =IFERROR(VLOOKUP($A8,记账工作簿!$B:$N,4,0),"") -> 1 | C8: =IFERROR(VLOOKUP($A8,记账工作簿!$B:$N,5,0),"") -> 5 | D8: =IFERROR(VLOOKUP($A8,记账工作簿!$B:$N,6,0),"") -> 记 | E8: =IFERROR(VLOOKUP($A8,记账工作簿!$B:$N,7,0),"") -> 3 | F8: =IFERROR(VLOOKUP($A8,记账工作簿!$B:$N,8,0),"") -> 采购原材料 | G8: =IF(IFERROR(VLOOKUP($A8,记账工作簿!$B:$N,11,0),"")=0,0,IFERROR(VLOOKUP($A8,记账工作簿!$B:$N,11,0),"")) -> 0 | I8: =IF(IFERROR(VLOOKUP($A8,记账工作簿!$B:$N,12,0),"")=0,0,IFERROR(VLOOKUP($A8,记账工作簿!$B:$N,12,0),"")) -> 13560 | J8: =IF(I8=0,"","√") -> √ | K8: =IF(L8>0,"借",IF(L8=0,"平","错误")) -> 借 | L8: =L7+G8-I8 -> 485994 | M8: =IF(L8=0,"","√") -> √
A9: 20××1记52 | B9: =IFERROR(VLOOKUP($A9,记账工作簿!$B:$N,4,0),"") -> 1 | C9: =IFERROR(VLOOKUP($A9,记账工作簿!$B:$N,5,0),"") -> 12 | D9: =IFERROR(VLOOKUP($A9,记账工作簿!$B:$N,6,0),"") -> 记 | E9: =IFERROR(VLOOKUP($A9,记账工作簿!$B:$N,7,0),"") -> 5 | F9: =IFERROR(VLOOKUP($A9,记账工作簿!$B:$N,8,0),"") -> 收回前欠货款 | G9: =IF(IFERROR(VLOOKUP($A9,记账工作簿!$B:$N,11,0),"")=0,0,IFERROR(VLOOKUP($A9,记账工作簿!$B:$N,11,0),"")) -> 22600 | I9: =IF(IFERROR(VLOOKUP($A9,记账工作簿!$B:$N,12,0),"")=0,0,IFERROR(VLOOKUP($A9,记账工作簿!$B:$N,12,0),"")) -> 0 | J9: =IF(I9=0,"","√") | K9: =IF(L9>0,"借",IF(L9=0,"平","错误")) -> 借 | L9: =L8+G9-I9 -> 508594 | M9: =IF(L9=0,"","√") -> √
A10: 20××1记62 | B10: =IFERROR(VLOOKUP($A10,记账工作簿!$B:$N,4,0),"") -> 1 | C10: =IFERROR(VLOOKUP($A10,记账工作簿!$B:$N,5,0),"") -> 15 | D10: =IFERROR(VLOOKUP($A10,记账工作簿!$B:$N,6,0),"") -> 记 | E10: =IFERROR(VLOOKUP($A10,记账工作簿!$B:$N,7,0),"") -> 6 | F10: =IFERROR(VLOOKUP($A10,记账工作簿!$B:$N,8,0),"") -> 支付上月工资 | G10: =IF(IFERROR(VLOOKUP($A10,记账工作簿!$B:$N,11,0),"")=0,0,IFERROR(VLOOKUP($A10,记账工作簿!$B:$N,11,0),"")) -> 0 | I10: =IF(IFERROR(VLOOKUP($A10,记账工作簿!$B:$N,12,0),"")=0,0,IFERROR(VLOOKUP($A10,记账工作簿!$B:$N,12,0),"")) -> 16500 | J10: =IF(I10=0,"","√") -> √ | K10: =IF(L10>0,"借",IF(L10=0,"平","错误")) -> 借 | L10: =L9+G10-I10 -> 492094 | M10: =IF(L10=0,"","√") -> √
A11: 20××1记72 | B11: =IFERROR(VLOOKUP($A11,记账工作簿!$B:$N,4,0),"") -> 1 | C11: =IFERROR(VLOOKUP($A11,记账工作簿!$B:$N,5,0),"") -> 18 | D11: =IFERROR(VLOOKUP($A11,记账工作簿!$B:$N,6,0),"") -> 记 | E11: =IFERROR(VLOOKUP($A11,记账工作簿!$B:$N,7,0),"") -> 7 | F11: =IFERROR(VLOOKUP($A11,记账工作簿!$B:$N,8,0),"") -> 购买软件升级包 | G11: =IF(IFERROR(VLOOKUP($A11,记账工作簿!$B:$N,11,0),"")=0,0,IFERROR(VLOOKUP($A11,记账工作簿!$B:$N,11,0),"")) -> 0 | I11: =IF(IFERROR(VLOOKUP($A11,记账工作簿!$B:$N,12,0),"")=0,0,IFERROR(VLOOKUP($A11,记账工作簿!$B:$N,12,0),"")) -> 12000 | J11: =IF(I11=0,"","√") -> √ | K11: =IF(L11>0,"借",IF(L11=0,"平","错误")) -> 借 | L11: =L10+G11-I11 -> 480094 | M11: =IF(L11=0,"","√") -> √
A12: 20××1记82 | B12: =IFERROR(VLOOKUP($A12,记账工作簿!$B:$N,4,0),"") -> 1 | C12: =IFERROR(VLOOKUP($A12,记账工作簿!$B:$N,5,0),"") -> 22 | D12: =IFERROR(VLOOKUP($A12,记账工作簿!$B:$N,6,0),"") -> 记 | E12: =IFERROR(VLOOKUP($A12,记账工作簿!$B:$N,7,0),"") -> 8 | F12: =IFERROR(VLOOKUP($A12,记账工作簿!$B:$N,8,0),"") -> 利息收入 | G12: =IF(IFERROR(VLOOKUP($A12,记账工作簿!$B:$N,11,0),"")=0,0,IFERROR(VLOOKUP($A12,记账工作簿!$B:$N,11,0),"")) -> 50 | I12: =IF(IFERROR(VLOOKUP($A12,记账工作簿!$B:$N,12,0),"")=0,0,IFERROR(VLOOKUP($A12,记账工作簿!$B:$N,12,0),"")) -> 0 | J12: =IF(I12=0,"","√") | K12: =IF(L12>0,"借",IF(L12=0,"平","错误")) -> 借 | L12: =L11+G12-I12 -> 480144 | M12: =IF(L12=0,"","√") -> √
B13: =IFERROR(VLOOKUP($A13,记账工作簿!$B:$N,4,0),"") | F13: =IFERROR(VLOOKUP($A13,记账工作簿!$B:$N,8,0),"") | G13: =IF(IFERROR(VLOOKUP($A13,记账工作簿!$B:$N,11,0),"")=0,0,IFERROR(VLOOKUP($A13,记账工作簿!$B:$N,11,0),"")) | I13: =IF(IFERROR(VLOOKUP($A13,记账工作簿!$B:$N,12,0),"")=0,0,IFERROR(VLOOKUP($A13,记账工作簿!$B:$N,12,0),""))
B14: =IFERROR(VLOOKUP($A14,记账工作簿!$B:$N,4,0),"") | F14: =IFERROR(VLOOKUP($A14,记账工作簿!$B:$N,8,0),"") | I14: =IF(IFERROR(VLOOKUP($A14,记账工作簿!$B:$N,12,0),"")=0,0,IFERROR(VLOOKUP($A14,记账工作簿!$B:$N,12,0),""))

Sheet 期初余额及发生额
C2: 注意： | E2: =IF(AND(E4=0,F4=0),"未有数据",IF(E4<>F4,"借贷未平","借贷平衡")) -> 借贷平衡 | G2: =IF(AND(G4=0,H4=0),"未有数据",IF(G4<>H4,"借贷未平","借贷平衡")) -> 借贷平衡 | I2: =IF(AND(I4=0,J4=0),"未有数据",IF(I4<>J4,"借贷未平","借贷平衡")) -> 借贷平衡 | K2: =IF(AND(K4=0,L4=0),"未有数据",IF(K4<>L4,"借贷未平","借贷平衡")) -> 未有数据 | O2: =IF(AND(O4=0,P4=0),"未有数据",IF(O4<>P4,"借贷未平","借贷平衡")) -> 未有数据 | Q2: =IF(AND(Q4=0,R4=0),"未有数据",IF(Q4<>R4,"借贷未平","借贷平衡")) -> 借贷平衡 | S2: =IF(AND(S4=0,T4=0),"未有数据",IF(S4<>T4,"借贷未平","借贷平衡")) -> 未有数据 | U2: =IF(AND(U4=0,V4=0),"未有数据",IF(U4<>V4,"借贷未平","借贷平衡")) -> 借贷平衡 | W2: =IF(AND(W4=0,X4=0),"未有数据",IF(W4<>X4,"借贷未平","借贷平衡")) -> 未有数据 | Y2: =IF(AND(Y4=0,Z4=0),"未有数据",IF(Y4<>Z4,"借贷未平","借贷平衡")) -> 借贷平衡 | AA2: =IF(AND(AA4=0,AB4=0),"未有数据",IF(AA4<>AB4,"借贷未平","借贷平衡")) -> 未有数据 | AC2: =IF(AND(AC4=0,AD4=0),"未有数据",IF(AC4<>AD4,"借贷未平","借贷平衡")) -> 借贷平衡 | AE2: =IF(AND(AE4=0,AF4=0),"未有数据",IF(AE4<>AF4,"借贷未平","借贷平衡")) -> 未有数据 | AG2: =IF(AND(AG4=0,AH4=0),"未有数据",IF(AG4<>AH4,"借贷未平","借贷平衡")) -> 借贷平衡 | AI2: =IF(AND(AI4=0,AJ4=0),"未有数据",IF(AI4<>AJ4,"借贷未平","借贷平衡")) -> 未有数据 | AK2: =IF(AND(AK4=0,AL4=0),"未有数据",IF(AK4<>AL4,"借贷未平","借贷平衡")) -> 借贷平衡 | AM2: =IF(AND(AM4=0,AN4=0),"未有数据",IF(AM4<>AN4,"借贷未平","借贷平衡")) -> 未有数据 | AO2: =IF(AND(AO4=0,AP4=0),"未有数据",IF(AO4<>AP4,"借贷未平","借贷平衡")) -> 借贷平衡 | AQ2: =IF(AND(AQ4=0,AR4=0),"未有数据",IF(AQ4<>AR4,"借贷未平","借贷平衡")) -> 未有数据 | AS2: =IF(AND(AS4=0,AT4=0),"未有数据",IF(AS4<>AT4,"借贷未平","借贷平衡")) -> 借贷平衡 | AU2: =IF(AND(AU4=0,AV4=0),"未有数据",IF(AU4<>AV4,"借贷未平","借贷平衡")) -> 未有数据 | AW2: =IF(AND(AW4=0,AX4=0),"未有数据",IF(AW4<>AX4,"借贷未平","借贷平衡")) -> 借贷平衡 | AY2: =IF(AND(AY4=0,AZ4=0),"未有数据",IF(AY4<>AZ4,"借贷未平","借贷平衡")) -> 未有数据 | BA2: =IF(AND(BA4=0,BB4=0),"未有数据",IF(BA4<>BB4,"借贷未平","借贷平衡")) -> 借贷平衡
B3: 科目代码 | C3: 科目名称 | D3: 明细科目 | E3: 年初借方余额 | F3: 年初贷方余额 | G3: 1月借方发生额 | H3: 1月贷方发生额 | I3: 1月借方余额 | J3: 1月贷方余额 | K3: 2月借方发生额 | L3: 2月贷方发生额 | M3: 2月借方余额 | N3: 2月贷方余额 | O3: 3月借方发生额 | P3: 3月贷方发生额 | Q3: 3月借方余额 | R3: 3月贷方余额 | S3: 4月借方发生额 | T3: 4月贷方发生额 | U3: 4月借方余额 | V3: 4月贷方余额 | W3: 5月借方发生额 | X3: 5月贷方发生额 | Y3: 5月借方余额 | Z3: 5月贷方余额 | AA3: 6月借方发生额 | AB3: 6月贷方发生额 | AC3: 6月借方余额 | AD3: 6月贷方余额 | AE3: 7月借方发生额 | AF3: 7月贷方发生额 | AG3: 7月借方余额 | AH3: 7月贷方余额 | AI3: 8月借方发生额 | AJ3: 8月贷方发生额 | AK3: 8月借方余额 | AL3: 8月贷方余额 | AM3: 9月借方发生额 | AN3: 9月贷方发生额 | AO3: 9月借方余额 | AP3: 9月贷方余额 | AQ3: 10月借方发生额 | AR3: 10月贷方发生额 | AS3: 10月借方余额 | AT3: 10月贷方余额 | AU3: 11月借方发生额 | AV3: 11月贷方发生额 | AW3: 11月借方余额 | AX3: 11月贷方余额 | AY3: 12月借方发生额 | AZ3: 12月贷方发生额 | BA3: 12月借方余额 | BB3: 12月贷方余额
D4: 合计 | E4: =SUBTOTAL(9,E:E) -> 28145553 | F4: =SUBTOTAL(9,F:F) -> 28145553 | G4: =SUBTOTAL(9,G:G) -> 1263400 | H4: =SUBTOTAL(9,H:H) -> 1263400 | I4: =SUBTOTAL(9,I:I) -> 28824653 | J4: =SUBTOTAL(9,J:J) -> 28824653 | K4: =SUBTOTAL(9,K:K) -> 0 | L4: =SUBTOTAL(9,L:L) -> 0 | M4: =SUBTOTAL(9,M:M) -> 28824653 | N4: =SUBTOTAL(9,N:N) -> 28824653 | O4: =SUBTOTAL(9,O:O) -> 0 | P4: =SUBTOTAL(9,P:P) -> 0 | Q4: =SUBTOTAL(9,Q:Q) -> 28824653 | R4: =SUBTOTAL(9,R:R) -> 28824653 | S4: =SUBTOTAL(9,S:S) -> 0 | T4: =SUBTOTAL(9,T:T) -> 0 | U4: =SUBTOTAL(9,U:U) -> 28824653 | V4: =SUBTOTAL(9,V:V) -> 28824653 | W4: =SUBTOTAL(9,W:W) -> 0 | X4: =SUBTOTAL(9,X:X) -> 0 | Y4: =SUBTOTAL(9,Y:Y) -> 28824653 | Z4: =SUBTOTAL(9,Z:Z) -> 28824653 | AA4: =SUBTOTAL(9,AA:AA) -> 0 | AB4: =SUBTOTAL(9,AB:AB) -> 0 | AC4: =SUBTOTAL(9,AC:AC) -> 28824653 | AD4: =SUBTOTAL(9,AD:AD) -> 28824653 | AE4: =SUBTOTAL(9,AE:AE) -> 0 | AF4: =SUBTOTAL(9,AF:AF) -> 0 | AG4: =SUBTOTAL(9,AG:AG) -> 28824653 | AH4: =SUBTOTAL(9,AH:AH) -> 28824653 | AI4: =SUBTOTAL(9,AI:AI) -> 0 | AJ4: =SUBTOTAL(9,AJ:AJ) -> 0 | AK4: =SUBTOTAL(9,AK:AK) -> 28824653 | AL4: =SUBTOTAL(9,AL:AL) -> 28824653 | AM4: =SUBTOTAL(9,AM:AM) -> 0 | AN4: =SUBTOTAL(9,AN:AN) -> 0 | AO4: =SUBTOTAL(9,AO:AO) -> 28824653 | AP4: =SUBTOTAL(9,AP:AP) -> 28824653 | AQ4: =SUBTOTAL(9,AQ:AQ) -> 0 | AR4: =SUBTOTAL(9,AR:AR) -> 0 | AS4: =SUBTOTAL(9,AS:AS) -> 28824653 | AT4: =SUBTOTAL(9,AT:AT) -> 28824653 | AU4: =SUBTOTAL(9,AU:AU) -> 0 | AV4: =SUBTOTAL(9,AV:AV) -> 0 | AW4: =SUBTOTAL(9,AW:AW) -> 28824653 | AX4: =SUBTOTAL(9,AX:AX) -> 28824653 | AY4: =SUBTOTAL(9,AY:AY) -> 0 | AZ4: =SUBTOTAL(9,AZ:AZ) -> 0 | BA4: =SUBTOTAL(9,BA:BA) -> 28824653 | BB4: =SUBTOTAL(9,BB:BB) -> 28824653
B5: 1001 | C5: 库存现金 | E5: 9500 | G5: =SUMIFS([1]记账凭证簿!$L$1:$L$65536,[1]记账凭证簿!$J$1:$J$65536,$C5,[1]记账凭证簿!$E$1:$E$65536,LEFTB(G$3,2)) -> #VALUE! | H5: =SUMIFS([1]记账凭证簿!$M$1:$M$65536,[1]记账凭证簿!$J$1:$J$65536,$C5,[1]记账凭证簿!$E$1:$E$65536,LEFTB(H$3,2)) -> #VALUE! | I5: =IF(E5-F5+G5-H5>0,E5-F5+G5-H5,0) -> #VALUE! | J5: =IF(F5-E5+H5-G5>0,F5-E5+H5-G5,0) -> #VALUE! | K5: =SUMIFS([1]记账凭证簿!$L$1:$L$65536,[1]记账凭证簿!$J$1:$J$65536,$C5,[1]记账凭证簿!$E$1:$E$65536,LEFTB(K$3,2)) -> #VALUE! | L5: =SUMIFS([1]记账凭证簿!$M$1:$M$65536,[1]记账凭证簿!$J$1:$J$65536,$C5,[1]记账凭证簿!$E$1:$E$65536,LEFTB(L$3,2)) -> #VALUE! | M5: =IF(I5-J5+K5-L5>0,I5-J5+K5-L5,0) -> #VALUE! | N5: =IF(J5-I5+L5-K5>0,J5-I5+L5-K5,0) -> #VALUE! | O5: =SUMIFS([1]记账凭证簿!$L$1:$L$65536,[1]记账凭证簿!$J$1:$J$65536,$C5,[1]记账凭证簿!$E$1:$E$65536,LEFTB(O$3,2)) -> #VALUE! | P5: =SUMIFS([1]记账凭证簿!$M$1:$M$65536,[1]记账凭证簿!$J$1:$J$65536,$C5,[1]记账凭证簿!$E$1:$E$65536,LEFTB(P$3,2)) -> #VALUE! | Q5: =IF(M5-N5+O5-P5>0,M5-N5+O5-P5,0) -> #VALUE! | R5: =IF(N5-M5+P5-O5>0,N5-M5+P5-O5,0) -> #VALUE! | S5: =SUMIFS([1]记账凭证簿!$L$1:$L$65536,[1]记账凭证簿!$J$1:$J$65536,$C5,[1]记账凭证簿!$E$1:$E$65536,LEFTB(S$3,2)) -> #VALUE! | T5: =SUMIFS([1]记账凭证簿!$M$1:$M$65536,[1]记账凭证簿!$J$1:$J$65536,$C5,[1]记账凭证簿!$E$1:$E$65536,LEFTB(T$3,2)) -> #VALUE! | U5: =IF(Q5-R5+S5-T5>0,Q5-R5+S5-T5,0) -> #VALUE! | V5: =IF(R5-Q5+T5-S5>0,R5-Q5+T5-S5,0) -> #VALUE! | W5: =SUMIFS([1]记账凭证簿!$L$1:$L$65536,[1]记账凭证簿!$J$1:$J$65536,$C5,[1]记账凭证簿!$E$1:$E$65536,LEFTB(W$3,2)) -> #VALUE! | X5: =SUMIFS([1]记账凭证簿!$M$1:$M$65536,[1]记账凭证簿!$J$1:$J$65536,$C5,[1]记账凭证簿!$E$1:$E$65536,LEFTB(X$3,2)) -> #VALUE! | Y5: =IF(U5-V5+W5-X5>0,U5-V5+W5-X5,0) -> #VALUE! | Z5: =IF(V5-U5+X5-W5>0,V5-U5+X5-W5,0) -> #VALUE! | AA5: =SUMIFS([1]记账凭证簿!$L$1:$L$65536,[1]记账凭证簿!$J$1:$J$65536,$C5,[1]记账凭证簿!$E$1:$E$65536,LEFTB(AA$3,2)) -> #VALUE! | AB5: =SUMIFS([1]记账凭证簿!$M$1:$M$65536,[1]记账凭证簿!$J$1:$J$65536,$C5,[1]记账凭证簿!$E$1:$E$65536,LEFTB(AB$3,2)) -> #VALUE! | AC5: =IF(Y5-Z5+AA5-AB5>0,Y5-Z5+AA5-AB5,0) -> #VALUE! | AD5: =IF(Z5-Y5+AB5-AA5>0,Z5-Y5+AB5-AA5,0) -> #VALUE! | AE5: =SUMIFS([1]记账凭证簿!$L$1:$L$65536,[1]记账凭证簿!$J$1:$J$65536,$C5,[1]记账凭证簿!$E$1:$E$65536,LEFTB(AE$3,2)) -> #VALUE! | AF5: =SUMIFS([1]记账凭证簿!$M$1:$M$65536,[1]记账凭证簿!$J$1:$J$65536,$C5,[1]记账凭证簿!$E$1:$E$65536,LEFTB(AF$3,2)) -> #VALUE! | AG5: =IF(AC5-AD5+AE5-AF5>0,AC5-AD5+AE5-AF5,0) -> #VALUE! | AH5: =IF(AD5-AC5+AF5-AE5>0,AD5-AC5+AF5-AE5,0) -> #VALUE! | AI5: =SUMIFS([1]记账凭证簿!$L$1:$L$65536,[1]记账凭证簿!$J$1:$J$65536,$C5,[1]记账凭证簿!$E$1:$E$65536,LEFTB(AI$3,2)) -> #VALUE! | AJ5: =SUMIFS([1]记账凭证簿!$M$1:$M$65536,[1]记账凭证簿!$J$1:$J$65536,$C5,[1]记账凭证簿!$E$1:$E$65536,LEFTB(AJ$3,2)) -> #VALUE! | AK5: =IF(AG5-AH5+AI5-AJ5>0,AG5-AH5+AI5-AJ5,0) -> #VALUE! | AL5: =IF(AH5-AG5+AJ5-AI5>0,AH5-AG5+AJ5-AI5,0) -> #VALUE! | AM5: =SUMIFS([1]记账凭证簿!$L$1:$L$65536,[1]记账凭证簿!$J$1:$J$65536,$C5,[1]记账凭证簿!$E$1:$E$65536,LEFTB(AM$3,2)) -> #VALUE! | AN5: =SUMIFS([1]记账凭证簿!$M$1:$M$65536,[1]记账凭证簿!$J$1:$J$65536,$C5,[1]记账凭证簿!$E$1:$E$65536,LEFTB(AN$3,2)) -> #VALUE! | AO5: =IF(AK5-AL5+AM5-AN5>0,AK5-AL5+AM5-AN5,0) -> #VALUE! | AP5: =IF(AL5-AK5+AN5-AM5>0,AL5-AK5+AN5-AM5,0) -> #VALUE! | AQ5: =SUMIFS([1]记账凭证簿!$L$1:$L$65536,[1]记账凭证簿!$J$1:$J$65536,$C5,[1]记账凭证簿!$E$1:$E$65536,LEFTB(AQ$3,2)) -> #VALUE! | AR5: =SUMIFS([1]记账凭证簿!$M$1:$M$65536,[1]记账凭证簿!$J$1:$J$65536,$C5,[1]记账凭证簿!$E$1:$E$65536,LEFTB(AR$3,2)) -> #VALUE! | AS5: =IF(AO5-AP5+AQ5-AR5>0,AO5-AP5+AQ5-AR5,0) -> #VALUE! | AT5: =IF(AP5-AO5+AR5-AQ5>0,AP5-AO5+AR5-AQ5,0) -> #VALUE! | AU5: =SUMIFS([1]记账凭证簿!$L$1:$L$65536,[1]记账凭证簿!$J$1:$J$65536,$C5,[1]记账凭证簿!$E$1:$E$65536,LEFTB(AU$3,2)) -> #VALUE! | AV5: =SUMIFS([1]记账凭证簿!$M$1:$M$65536,[1]记账凭证簿!$J$1:$J$65536,$C5,[1]记账凭证簿!$E$1:$E$65536,LEFTB(AV$3,2)) -> #VALUE! | AW5: =IF(AS5-AT5+AU5-AV5>0,AS5-AT5+AU5-AV5,0) -> #VALUE! | AX5: =IF(AT5-AS5+AV5-AU5>0,AT5-AS5+AV5-AU5,0) -> #VALUE! | AY5: =SUMIFS([1]记账凭证簿!$L$1:$L$65536,[1]记账凭证簿!$J$1:$J$65536,$C5,[1]记账凭证簿!$E$1:$E$65536,LEFTB(AY$3,2)) -> #VALUE! | AZ5: =SUMIFS([1]记账凭证簿!$M$1:$M$65536,[1]记账凭证簿!$J$1:$J$65536,$C5,[1]记账凭证簿!$E$1:$E$65536,LEFTB(AZ$3,2)) -> #VALUE! | BA5: =IF(AW5-AX5+AY5-AZ5>0,AW5-AX5+AY5-AZ5,0) -> #VALUE! | BB5: =IF(AX5-AW5+AZ5-AY5>0,AX5-AW5+AZ5-AY5,0) -> #VALUE!
B6: 1002 | C6: 银行存款 | E6: 502054 | G6: =SUMIFS([1]记账凭证簿!$L$1:$L$65536,[1]记账凭证簿!$J$1:$J$65536,$C6,[1]记账凭证簿!$E$1:$E$65536,LEFTB(G$3,2)) -> #VALUE! | H6: =SUMIFS([1]记账凭证簿!$M$1:$M$65536,[1]记账凭证簿!$J$1:$J$65536,$C6,[1]记账凭证簿!$E$1:$E$65536,LEFTB(H$3,2)) -> #VALUE! | I6: =IF(E6-F6+G6-H6>0,E6-F6+G6-H6,0) -> #VALUE! | J6: =IF(F6-E6+H6-G6>0,F6-E6+H6-G6,0) -> #VALUE! | K6: =SUMIFS([1]记账凭证簿!$L$1:$L$65536,[1]记账凭证簿!$J$1:$J$65536,$C6,[1]记账凭证簿!$E$1:$E$65536,LEFTB(K$3,2)) -> #VALUE! | L6: =SUMIFS([1]记账凭证簿!$M$1:$M$65536,[1]记账凭证簿!$J$1:$J$65536,$C6,[1]记账凭证簿!$E$1:$E$65536,LEFTB(L$3,2)) -> #VALUE! | M6: =IF(I6-J6+K6-L6>0,I6-J6+K6-L6,0) -> #VALUE! | N6: =IF(J6-I6+L6-K6>0,J6-I6+L6-K6,0) -> #VALUE! | O6: =SUMIFS([1]记账凭证簿!$L$1:$L$65536,[1]记账凭证簿!$J$1:$J$65536,$C6,[1]记账凭证簿!$E$1:$E$65536,LEFTB(O$3,2)) -> #VALUE! | P6: =SUMIFS([1]记账凭证簿!$M$1:$M$65536,[1]记账凭证簿!$J$1:$J$65536,$C6,[1]记账凭证簿!$E$1:$E$65536,LEFTB(P$3,2)) -> #VALUE! | Q6: =IF(M6-N6+O6-P6>0,M6-N6+O6-P6,0) -> #VALUE! | R6: =IF(N6-M6+P6-O6>0,N6-M6+P6-O6,0) -> #VALUE! | S6: =SUMIFS([1]记账凭证簿!$L$1:$L$65536,[1]记账凭证簿!$J$1:$J$65536,$C6,[1]记账凭证簿!$E$1:$E$65536,LEFTB(S$3,2)) -> #VALUE! | T6: =SUMIFS([1]记账凭证簿!$M$1:$M$65536,[1]记账凭证簿!$J$1:$J$65536,$C6,[1]记账凭证簿!$E$1:$E$65536,LEFTB(T$3,2)) -> #VALUE! | U6: =IF(Q6-R6+S6-T6>0,Q6-R6+S6-T6,0) -> #VALUE! | V6: =IF(R6-Q6+T6-S6>0,R6-Q6+T6-S6,0) -> #VALUE! | W6: =SUMIFS([1]记账凭证簿!$L$1:$L$65536,[1]记账凭证簿!$J$1:$J$65536,$C6,[1]记账凭证簿!$E$1:$E$65536,LEFTB(W$3,2)) -> #VALUE! | X6: =SUMIFS([1]记账凭证簿!$M$1:$M$65536,[1]记账凭证簿!$J$1:$J$65536,$C6,[1]记账凭证簿!$E$1:$E$65536,LEFTB(X$3,2)) -> #VALUE! | Y6: =IF(U6-V6+W6-X6>0,U6-V6+W6-X6,0) -> #VALUE! | Z6: =IF(V6-U6+X6-W6>0,V6-U6+X6-W6,0) -> #VALUE! | AA6: =SUMIFS([1]记账凭证簿!$L$1:$L$65536,[1]记账凭证簿!$J$1:$J$65536,$C6,[1]记账凭证簿!$E$1:$E$65536,LEFTB(AA$3,2)) -> #VALUE! | AB6: =SUMIFS([1]记账凭证簿!$M$1:$M$65536,[1]记账凭证簿!$J$1:$J$65536,$C6,[1]记账凭证簿!$E$1:$E$65536,LEFTB(AB$3,2)) -> #VALUE! | AC6: =IF(Y6-Z6+AA6-AB6>0,Y6-Z6+AA6-AB6,0) -> #VALUE! | AD6: =IF(Z6-Y6+AB6-AA6>0,Z6-Y6+AB6-AA6,0) -> #VALUE! | AE6: =SUMIFS([1]记账凭证簿!$L$1:$L$65536,[1]记账凭证簿!$J$1:$J$65536,$C6,[1]记账凭证簿!$E$1:$E$65536,LEFTB(AE$3,2)) -> #VALUE! | AF6: =SUMIFS([1]记账凭证簿!$M$1:$M$65536,[1]记账凭证簿!$J$1:$J$65536,$C6,[1]记账凭证簿!$E$1:$E$65536,LEFTB(AF$3,2)) -> #VALUE! | AG6: =IF(AC6-AD6+AE6-AF6>0,AC6-AD6+AE6-AF6,0) -> #VALUE! | AH6: =IF(AD6-AC6+AF6-AE6>0,AD6-AC6+AF6-AE6,0) -> #VALUE! | AI6: =SUMIFS([1]记账凭证簿!$L$1:$L$65536,[1]记账凭证簿!$J$1:$J$65536,$C6,[1]记账凭证簿!$E$1:$E$65536,LEFTB(AI$3,2)) -> #VALUE! | AJ6: =SUMIFS([1]记账凭证簿!$M$1:$M$65536,[1]记账凭证簿!$J$1:$J$65536,$C6,[1]记账凭证簿!$E$1:$E$65536,LEFTB(AJ$3,2)) -> #VALUE! | AK6: =IF(AG6-AH6+AI6-AJ6>0,AG6-AH6+AI6-AJ6,0) -> #VALUE! | AL6: =IF(AH6-AG6+AJ6-AI6>0,AH6-AG6+AJ6-AI6,0) -> #VALUE! | AM6: =SUMIFS([1]记账凭证簿!$L$1:$L$65536,[1]记账凭证簿!$J$1:$J$65536,$C6,[1]记账凭证簿!$E$1:$E$65536,LEFTB(AM$3,2)) -> #VALUE! | AN6: =SUMIFS([1]记账凭证簿!$M$1:$M$65536,[1]记账凭证簿!$J$1:$J$65536,$C6,[1]记账凭证簿!$E$1:$E$65536,LEFTB(AN$3,2)) -> #VALUE! | AO6: =IF(AK6-AL6+AM6-AN6>0,AK6-AL6+AM6-AN6,0) -> #VALUE! | AP6: =IF(AL6-AK6+AN6-AM6>0,AL6-AK6+AN6-AM6,0) -> #VALUE! | AQ6: =SUMIFS([1]记账凭证簿!$L$1:$L$65536,[1]记账凭证簿!$J$1:$J$65536,$C6,[1]记账凭证簿!$E$1:$E$65536,LEFTB(AQ$3,2)) -> #VALUE! | AR6: =SUMIFS([1]记账凭证簿!$M$1:$M$65536,[1]记账凭证簿!$J$1:$J$65536,$C6,[1]记账凭证簿!$E$1:$E$65536,LEFTB(AR$3,2)) -> #VALUE! | AS6: =IF(AO6-AP6+AQ6-AR6>0,AO6-AP6+AQ6-AR6,0) -> #VALUE! | AT6: =IF(AP6-AO6+AR6-AQ6>0,AP6-AO6+AR6-AQ6,0) -> #VALUE! | AU6: =SUMIFS([1]记账凭证簿!$L$1:$L$65536,[1]记账凭证簿!$J$1:$J$65536,$C6,[1]记账凭证簿!$E$1:$E$65536,LEFTB(AU$3,2)) -> #VALUE! | AV6: =SUMIFS([1]记账凭证簿!$M$1:$M$65536,[1]记账凭证簿!$J$1:$J$65536,$C6,[1]记账凭证簿!$E$1:$E$65536,LEFTB(AV$3,2)) -> #VALUE! | AW6: =IF(AS6-AT6+AU6-AV6>0,AS6-AT6+AU6-AV6,0) -> #VALUE! | AX6: =IF(AT6-AS6+AV6-AU6>0,AT6-AS6+AV6-AU6,0) -> #VALUE! | AY6: =SUMIFS([1]记账凭证簿!$L$1:$L$65536,[1]记账凭证簿!$J$1:$J$65536,$C6,[1]记账凭证簿!$E$1:$E$65536,LEFTB(AY$3,2)) -> #VALUE! | AZ6: =SUMIFS([1]记账凭证簿!$M$1:$M$65536,[1]记账凭证簿!$J$1:$J$65536,$C6,[1]记账凭证簿!$E$1:$E$65536,LEFTB(AZ$3,2)) -> #VALUE! | BA6: =IF(AW6-AX6+AY6-AZ6>0,AW6-AX6+AY6-AZ6,0) -> #VALUE! | BB6: =IF(AX6-AW6+AZ6-AY6>0,AX6-AW6+AZ6-AY6,0) -> #VALUE!
B7: 1015 | C7: 其他货币资金 | E7: 0 | G7: =SUMIFS([1]记账凭证簿!$L$1:$L$65536,[1]记账凭证簿!$J$1:$J$65536,$C7,[1]记账凭证簿!$E$1:$E$65536,LEFTB(G$3,2)) -> #VALUE! | H7: =SUMIFS([1]记账凭证簿!$M$1:$M$65536,[1]记账凭证簿!$J$1:$J$65536,$C7,[1]记账凭证簿!$E$1:$E$65536,LEFTB(H$3,2)) -> #VALUE! | I7: =IF(E7-F7+G7-H7>0,E7-F7+G7-H7,0) -> #VALUE! | J7: =IF(F7-E7+H7-G7>0,F7-E7+H7-G7,0) -> #VALUE! | K7: =SUMIFS([1]记账凭证簿!$L$1:$L$65536,[1]记账凭证簿!$J$1:$J$65536,$C7,[1]记账凭证簿!$E$1:$E$65536,LEFTB(K$3,2)) -> #VALUE! | L7: =SUMIFS([1]记账凭证簿!$M$1:$M$65536,[1]记账凭证簿!$J$1:$J$65536,$C7,[1]记账凭证簿!$E$1:$E$65536,LEFTB(L$3,2)) -> #VALUE! | M7: =IF(I7-J7+K7-L7>0,I7-J7+K7-L7,0) -> #VALUE! | N7: =IF(J7-I7+L7-K7>0,J7-I7+L7-K7,0) -> #VALUE! | O7: =SUMIFS([1]记账凭证簿!$L$1:$L$65536,[1]记账凭证簿!$J$1:$J$65536,$C7,[1]记账凭证簿!$E$1:$E$65536,LEFTB(O$3,2)) -> #VALUE! | P7: =SUMIFS([1]记账凭证簿!$M$1:$M$65536,[1]记账凭证簿!$J$1:$J$65536,$C7,[1]记账凭证簿!$E$1:$E$65536,LEFTB(P$3,2)) -> #VALUE! | Q7: =IF(M7-N7+O7-P7>0,M7-N7+O7-P7,0) -> #VALUE! | R7: =IF(N7-M7+P7-O7>0,N7-M7+P7-O7,0) -> #VALUE! | S7: =SUMIFS([1]记账凭证簿!$L$1:$L$65536,[1]记账凭证簿!$J$1:$J$65536,$C7,[1]记账凭证簿!$E$1:$E$65536,LEFTB(S$3,2)) -> #VALUE! | T7: =SUMIFS([1]记账凭证簿!$M$1:$M$65536,[1]记账凭证簿!$J$1:$J$65536,$C7,[1]记账凭证簿!$E$1:$E$65536,LEFTB(T$3,2)) -> #VALUE! | U7: =IF(Q7-R7+S7-T7>0,Q7-R7+S7-T7,0) -> #VALUE! | V7: =IF(R7-Q7+T7-S7>0,R7-Q7+T7-S7,0) -> #VALUE! | W7: =SUMIFS([1]记账凭证簿!$L$1:$L$65536,[1]记账凭证簿!$J$1:$J$65536,$C7,[1]记账凭证簿!$E$1:$E$65536,LEFTB(W$3,2)) -> #VALUE! | X7: =SUMIFS([1]记账凭证簿!$M$1:$M$65536,[1]记账凭证簿!$J$1:$J$65536,$C7,[1]记账凭证簿!$E$1:$E$65536,LEFTB(X$3,2)) -> #VALUE! | Y7: =IF(U7-V7+W7-X7>0,U7-V7+W7-X7,0) -> #VALUE! | Z7: =IF(V7-U7+X7-W7>0,V7-U7+X7-W7,0) -> #VALUE! | AA7: =SUMIFS([1]记账凭证簿!$L$1:$L$65536,[1]记账凭证簿!$J$1:$J$65536,$C7,[1]记账凭证簿!$E$1:$E$65536,LEFTB(AA$3,2)) -> #VALUE! | AB7: =SUMIFS([1]记账凭证簿!$M$1:$M$65536,[1]记账凭证簿!$J$1:$J$65536,$C7,[1]记账凭证簿!$E$1:$E$65536,LEFTB(AB$3,2)) -> #VALUE! | AC7: =IF(Y7-Z7+AA7-AB7>0,Y7-Z7+AA7-AB7,0) -> #VALUE! | AD7: =IF(Z7-Y7+AB7-AA7>0,Z7-Y7+AB7-AA7,0) -> #VALUE! | AE7: =SUMIFS([1]记账凭证簿!$L$1:$L$65536,[1]记账凭证簿!$J$1:$J$65536,$C7,[1]记账凭证簿!$E$1:$E$65536,LEFTB(AE$3,2)) -> #VALUE! | AF7: =SUMIFS([1]记账凭证簿!$M$1:$M$65536,[1]记账凭证簿!$J$1:$J$65536,$C7,[1]记账凭证簿!$E$1:$E$65536,LEFTB(AF$3,2)) -> #VALUE! | AG7: =IF(AC7-AD7+AE7-AF7>0,AC7-AD7+AE7-AF7,0) -> #VALUE! | AH7: =IF(AD7-AC7+AF7-AE7>0,AD7-AC7+AF7-AE7,0) -> #VALUE! | AI7: =SUMIFS([1]记账凭证簿!$L$1:$L$65536,[1]记账凭证簿!$J$1:$J$65536,$C7,[1]记账凭证簿!$E$1:$E$65536,LEFTB(AI$3,2)) -> #VALUE! | AJ7: =SUMIFS([1]记账凭证簿!$M$1:$M$65536,[1]记账凭证簿!$J$1:$J$65536,$C7,[1]记账凭证簿!$E$1:$E$65536,LEFTB(AJ$3,2)) -> #VALUE! | AK7: =IF(AG7-AH7+AI7-AJ7>0,AG7-AH7+AI7-AJ7,0) -> #VALUE! | AL7: =IF(AH7-AG7+AJ7-AI7>0,AH7-AG7+AJ7-AI7,0) -> #VALUE! | AM7: =SUMIFS([1]记账凭证簿!$L$1:$L$65536,[1]记账凭证簿!$J$1:$J$65536,$C7,[1]记账凭证簿!$E$1:$E$65536,LEFTB(AM$3,2)) -> #VALUE! | AN7: =SUMIFS([1]记账凭证簿!$M$1:$M$65536,[1]记账凭证簿!$J$1:$J$65536,$C7,[1]记账凭证簿!$E$1:$E$65536,LEFTB(AN$3,2)) -> #VALUE! | AO7: =IF(AK7-AL7+AM7-AN7>0,AK7-AL7+AM7-AN7,0) -> #VALUE! | AP7: =IF(AL7-AK7+AN7-AM7>0,AL7-AK7+AN7-AM7,0) -> #VALUE! | AQ7: =SUMIFS([1]记账凭证簿!$L$1:$L$65536,[1]记账凭证簿!$J$1:$J$65536,$C7,[1]记账凭证簿!$E$1:$E$65536,LEFTB(AQ$3,2)) -> #VALUE! | AR7: =SUMIFS([1]记账凭证簿!$M$1:$M$65536,[1]记账凭证簿!$J$1:$J$65536,$C7,[1]记账凭证簿!$E$1:$E$65536,LEFTB(AR$3,2)) -> #VALUE! | AS7: =IF(AO7-AP7+AQ7-AR7>0,AO7-AP7+AQ7-AR7,0) -> #VALUE! | AT7: =IF(AP7-AO7+AR7-AQ7>0,AP7-AO7+AR7-AQ7,0) -> #VALUE! | AU7: =SUMIFS([1]记账凭证簿!$L$1:$L$65536,[1]记账凭证簿!$J$1:$J$65536,$C7,[1]记账凭证簿!$E$1:$E$65536,LEFTB(AU$3,2)) -> #VALUE! | AV7: =SUMIFS([1]记账凭证簿!$M$1:$M$65536,[1]记账凭证簿!$J$1:$J$65536,$C7,[1]记账凭证簿!$E$1:$E$65536,LEFTB(AV$3,2)) -> #VALUE! | AW7: =IF(AS7-AT7+AU7-AV7>0,AS7-AT7+AU7-AV7,0) -> #VALUE! | AX7: =IF(AT7-AS7+AV7-AU7>0,AT7-AS7+AV7-AU7,0) -> #VALUE! | AY7: =SUMIFS([1]记账凭证簿!$L$1:$L$65536,[1]记账凭证簿!$J$1:$J$65536,$C7,[1]记账凭证簿!$E$1:$E$65536,LEFTB(AY$3,2)) -> #VALUE! | AZ7: =SUMIFS([1]记账凭证簿!$M$1:$M$65536,[1]记账凭证簿!$J$1:$J$65536,$C7,[1]记账凭证簿!$E$1:$E$65536,LEFTB(AZ$3,2)) -> #VALUE! | BA7: =IF(AW7-AX7+AY7-AZ7>0,AW7-AX7+AY7-AZ7,0) -> #VALUE! | BB7: =IF(AX7-AW7+AZ7-AY7>0,AX7-AW7+AZ7-AY7,0) -> #VALUE!
B8: 1101 | C8: 交易性金融资产 | E8: 0 | G8: =SUMIFS([1]记账凭证簿!$L$1:$L$65536,[1]记账凭证簿!$J$1:$J$65536,$C8,[1]记账凭证簿!$E$1:$E$65536,LEFTB(G$3,2)) -> #VALUE! | H8: =SUMIFS([1]记账凭证簿!$M$1:$M$65536,[1]记账凭证簿!$J$1:$J$65536,$C8,[1]记账凭证簿!$E$1:$E$65536,LEFTB(H$3,2)) -> #VALUE! | I8: =IF(E8-F8+G8-H8>0,E8-F8+G8-H8,0) -> #VALUE! | J8: =IF(F8-E8+H8-G8>0,F8-E8+H8-G8,0) -> #VALUE! | K8: =SUMIFS([1]记账凭证簿!$L$1:$L$65536,[1]记账凭证簿!$J$1:$J$65536,$C8,[1]记账凭证簿!$E$1:$E$65536,LEFTB(K$3,2)) -> #VALUE! | L8: =SUMIFS([1]记账凭证簿!$M$1:$M$65536,[1]记账凭证簿!$J$1:$J$65536,$C8,[1]记账凭证簿!$E$1:$E$65536,LEFTB(L$3,2)) -> #VALUE! | M8: =IF(I8-J8+K8-L8>0,I8-J8+K8-L8,0) -> #VALUE! | N8: =IF(J8-I8+L8-K8>0,J8-I8+L8-K8,0) -> #VALUE! | O8: =SUMIFS([1]记账凭证簿!$L$1:$L$65536,[1]记账凭证簿!$J$1:$J$65536,$C8,[1]记账凭证簿!$E$1:$E$65536,LEFTB(O$3,2)) -> #VALUE! | P8: =SUMIFS([1]记账凭证簿!$M$1:$M$65536,[1]记账凭证簿!$J$1:$J$65536,$C8,[1]记账凭证簿!$E$1:$E$65536,LEFTB(P$3,2)) -> #VALUE! | Q8: =IF(M8-N8+O8-P8>0,M8-N8+O8-P8,0) -> #VALUE! | R8: =IF(N8-M8+P8-O8>0,N8-M8+P8-O8,0) -> #VALUE! | S8: =SUMIFS([1]记账凭证簿!$L$1:$L$65536,[1]记账凭证簿!$J$1:$J$65536,$C8,[1]记账凭证簿!$E$1:$E$65536,LEFTB(S$3,2)) -> #VALUE! | T8: =SUMIFS([1]记账凭证簿!$M$1:$M$65536,[1]记账凭证簿!$J$1:$J$65536,$C8,[1]记账凭证簿!$E$1:$E$65536,LEFTB(T$3,2)) -> #VALUE! | U8: =IF(Q8-R8+S8-T8>0,Q8-R8+S8-T8,0) -> #VALUE! | V8: =IF(R8-Q8+T8-S8>0,R8-Q8+T8-S8,0) -> #VALUE! | W8: =SUMIFS([1]记账凭证簿!$L$1:$L$65536,[1]记账凭证簿!$J$1:$J$65536,$C8,[1]记账凭证簿!$E$1:$E$65536,LEFTB(W$3,2)) -> #VALUE! | X8: =SUMIFS([1]记账凭证簿!$M$1:$M$65536,[1]记账凭证簿!$J$1:$J$65536,$C8,[1]记账凭证簿!$E$1:$E$65536,LEFTB(X$3,2)) -> #VALUE! | Y8: =IF(U8-V8+W8-X8>0,U8-V8+W8-X8,0) -> #VALUE! | Z8: =IF(V8-U8+X8-W8>0,V8-U8+X8-W8,0) -> #VALUE! | AA8: =SUMIFS([1]记账凭证簿!$L$1:$L$65536,[1]记账凭证簿!$J$1:$J$65536,$C8,[1]记账凭证簿!$E$1:$E$65536,LEFTB(AA$3,2)) -> #VALUE! | AB8: =SUMIFS([1]记账凭证簿!$M$1:$M$65536,[1]记账凭证簿!$J$1:$J$65536,$C8,[1]记账凭证簿!$E$1:$E$65536,LEFTB(AB$3,2)) -> #VALUE! | AC8: =IF(Y8-Z8+AA8-AB8>0,Y8-Z8+AA8-AB8,0) -> #VALUE! | AD8: =IF(Z8-Y8+AB8-AA8>0,Z8-Y8+AB8-AA8,0) -> #VALUE! | AE8: =SUMIFS([1]记账凭证簿!$L$1:$L$65536,[1]记账凭证簿!$J$1:$J$65536,$C8,[1]记账凭证簿!$E$1:$E$65536,LEFTB(AE$3,2)) -> #VALUE! | AF8: =SUMIFS([1]记账凭证簿!$M$1:$M$65536,[1]记账凭证簿!$J$1:$J$65536,$C8,[1]记账凭证簿!$E$1:$E$65536,LEFTB(AF$3,2)) -> #VALUE! | AG8: =IF(AC8-AD8+AE8-AF8>0,AC8-AD8+AE8-AF8,0) -> #VALUE! | AH8: =IF(AD8-AC8+AF8-AE8>0,AD8-AC8+AF8-AE8,0) -> #VALUE! | AI8: =SUMIFS([1]记账凭证簿!$L$1:$L$65536,[1]记账凭证簿!$J$1:$J$65536,$C8,[1]记账凭证簿!$E$1:$E$65536,LEFTB(AI$3,2)) -> #VALUE! | AJ8: =SUMIFS([1]记账凭证簿!$M$1:$M$65536,[1]记账凭证簿!$J$1:$J$65536,$C8,[1]记账凭证簿!$E$1:$E$65536,LEFTB(AJ$3,2)) -> #VALUE! | AK8: =IF(AG8-AH8+AI8-AJ8>0,AG8-AH8+AI8-AJ8,0) -> #VALUE! | AL8: =IF(AH8-AG8+AJ8-AI8>0,AH8-AG8+AJ8-AI8,0) -> #VALUE! | AM8: =SUMIFS([1]记账凭证簿!$L$1:$L$65536,[1]记账凭证簿!$J$1:$J$65536,$C8,[1]记账凭证簿!$E$1:$E$65536,LEFTB(AM$3,2)) -> #VALUE! | AN8: =SUMIFS([1]记账凭证簿!$M$1:$M$65536,[1]记账凭证簿!$J$1:$J$65536,$C8,[1]记账凭证簿!$E$1:$E$65536,LEFTB(AN$3,2)) -> #VALUE! | AO8: =IF(AK8-AL8+AM8-AN8>0,AK8-AL8+AM8-AN8,0) -> #VALUE! | AP8: =IF(AL8-AK8+AN8-AM8>0,AL8-AK8+AN8-AM8,0) -> #VALUE! | AQ8: =SUMIFS([1]记账凭证簿!$L$1:$L$65536,[1]记账凭证簿!$J$1:$J$65536,$C8,[1]记账凭证簿!$E$1:$E$65536,LEFTB(AQ$3,2)) -> #VALUE! | AR8: =SUMIFS([1]记账凭证簿!$M$1:$M$65536,[1]记账凭证簿!$J$1:$J$65536,$C8,[1]记账凭证簿!$E$1:$E$65536,LEFTB(AR$3,2)) -> #VALUE! | AS8: =IF(AO8-AP8+AQ8-AR8>0,AO8-AP8+AQ8-AR8,0) -> #VALUE! | AT8: =IF(AP8-AO8+AR8-AQ8>0,AP8-AO8+AR8-AQ8,0) -> #VALUE! | AU8: =SUMIFS([1]记账凭证簿!$L$1:$L$65536,[1]记账凭证簿!$J$1:$J$65536,$C8,[1]记账凭证簿!$E$1:$E$65536,LEFTB(AU$3,2)) -> #VALUE! | AV8: =SUMIFS([1]记账凭证簿!$M$1:$M$65536,[1]记账凭证簿!$J$1:$J$65536,$C8,[1]记账凭证簿!$E$1:$E$65536,LEFTB(AV$3,2)) -> #VALUE! | AW8: =IF(AS8-AT8+AU8-AV8>0,AS8-AT8+AU8-AV8,0) -> #VALUE! | AX8: =IF(AT8-AS8+AV8-AU8>0,AT8-AS8+AV8-AU8,0) -> #VALUE! | AY8: =SUMIFS([1]记账凭证簿!$L$1:$L$65536,[1]记账凭证簿!$J$1:$J$65536,$C8,[1]记账凭证簿!$E$1:$E$65536,LEFTB(AY$3,2)) -> #VALUE! | AZ8: =SUMIFS([1]记账凭证簿!$M$1:$M$65536,[1]记账凭证簿!$J$1:$J$65536,$C8,[1]记账凭证簿!$E$1:$E$65536,LEFTB(AZ$3,2)) -> #VALUE! | BA8: =IF(AW8-AX8+AY8-AZ8>0,AW8-AX8+AY8-AZ8,0) -> #VALUE! | BB8: =IF(AX8-AW8+AZ8-AY8>0,AX8-AW8+AZ8-AY8,0) -> #VALUE!
B9: 1121 | C9: 应收票据 | E9: 0 | G9: =SUMIFS([1]记账凭证簿!$L$1:$L$65536,[1]记账凭证簿!$J$1:$J$65536,$C9,[1]记账凭证簿!$E$1:$E$65536,LEFTB(G$3,2)) -> #VALUE! | H9: =SUMIFS([1]记账凭证簿!$M$1:$M$65536,[1]记账凭证簿!$J$1:$J$65536,$C9,[1]记账凭证簿!$E$1:$E$65536,LEFTB(H$3,2)) -> #VALUE! | I9: =IF(E9-F9+G9-H9>0,E9-F9+G9-H9,0) -> #VALUE! | J9: =IF(F9-E9+H9-G9>0,F9-E9+H9-G9,0) -> #VALUE! | K9: =SUMIFS([1]记账凭证簿!$L$1:$L$65536,[1]记账凭证簿!$J$1:$J$65536,$C9,[1]记账凭证簿!$E$1:$E$65536,LEFTB(K$3,2)) -> #VALUE! | L9: =SUMIFS([1]记账凭证簿!$M$1:$M$65536,[1]记账凭证簿!$J$1:$J$65536,$C9,[1]记账凭证簿!$E$1:$E$65536,LEFTB(L$3,2)) -> #VALUE! | M9: =IF(I9-J9+K9-L9>0,I9-J9+K9-L9,0) -> #VALUE! | N9: =IF(J9-I9+L9-K9>0,J9-I9+L9-K9,0) -> #VALUE! | O9: =SUMIFS([1]记账凭证簿!$L$1:$L$65536,[1]记账凭证簿!$J$1:$J$65536,$C9,[1]记账凭证簿!$E$1:$E$65536,LEFTB(O$3,2)) -> #VALUE! | P9: =SUMIFS([1]记账凭证簿!$M$1:$M$65536,[1]记账凭证簿!$J$1:$J$65536,$C9,[1]记账凭证簿!$E$1:$E$65536,LEFTB(P$3,2)) -> #VALUE! | Q9: =IF(M9-N9+O9-P9>0,M9-N9+O9-P9,0) -> #VALUE! | R9: =IF(N9-M9+P9-O9>0,N9-M9+P9-O9,0) -> #VALUE! | S9: =SUMIFS([1]记账凭证簿!$L$1:$L$65536,[1]记账凭证簿!$J$1:$J$65536,$C9,[1]记账凭证簿!$E$1:$E$65536,LEFTB(S$3,2)) -> #VALUE! | T9: =SUMIFS([1]记账凭证簿!$M$1:$M$65536,[1]记账凭证簿!$J$1:$J$65536,$C9,[1]记账凭证簿!$E$1:$E$65536,LEFTB(T$3,2)) -> #VALUE! | U9: =IF(Q9-R9+S9-T9>0,Q9-R9+S9-T9,0) -> #VALUE! | V9: =IF(R9-Q9+T9-S9>0,R9-Q9+T9-S9,0) -> #VALUE! | W9: =SUMIFS([1]记账凭证簿!$L$1:$L$65536,[1]记账凭证簿!$J$1:$J$65536,$C9,[1]记账凭证簿!$E$1:$E$65536,LEFTB(W$3,2)) -> #VALUE! | X9: =SUMIFS([1]记账凭证簿!$M$1:$M$65536,[1]记账凭证簿!$J$1:$J$65536,$C9,[1]记账凭证簿!$E$1:$E$65536,LEFTB(X$3,2)) -> #VALUE! | Y9: =IF(U9-V9+W9-X9>0,U9-V9+W9-X9,0) -> #VALUE! | Z9: =IF(V9-U9+X9-W9>0,V9-U9+X9-W9,0) -> #VALUE! | AA9: =SUMIFS([1]记账凭证簿!$L$1:$L$65536,[1]记账凭证簿!$J$1:$J$65536,$C9,[1]记账凭证簿!$E$1:$E$65536,LEFTB(AA$3,2)) -> #VALUE! | AB9: =SUMIFS([1]记账凭证簿!$M$1:$M$65536,[1]记账凭证簿!$J$1:$J$65536,$C9,[1]记账凭证簿!$E$1:$E$65536,LEFTB(AB$3,2)) -> #VALUE! | AC9: =IF(Y9-Z9+AA9-AB9>0,Y9-Z9+AA9-AB9,0) -> #VALUE! | AD9: =IF(Z9-Y9+AB9-AA9>0,Z9-Y9+AB9-AA9,0) -> #VALUE! | AE9: =SUMIFS([1]记账凭证簿!$L$1:$L$65536,[1]记账凭证簿!$J$1:$J$65536,$C9,[1]记账凭证簿!$E$1:$E$65536,LEFTB(AE$3,2)) -> #VALUE! | AF9: =SUMIFS([1]记账凭证簿!$M$1:$M$65536,[1]记账凭证簿!$J$1:$J$65536,$C9,[1]记账凭证簿!$E$1:$E$65536,LEFTB(AF$3,2)) -> #VALUE! | AG9: =IF(AC9-AD9+AE9-AF9>0,AC9-AD9+AE9-AF9,0) -> #VALUE! | AH9: =IF(AD9-AC9+AF9-AE9>0,AD9-AC9+AF9-AE9,0) -> #VALUE! | AI9: =SUMIFS([1]记账凭证簿!$L$1:$L$65536,[1]记账凭证簿!$J$1:$J$65536,$C9,[1]记账凭证簿!$E$1:$E$65536,LEFTB(AI$3,2)) -> #VALUE! | AJ9: =SUMIFS([1]记账凭证簿!$M$1:$M$65536,[1]记账凭证簿!$J$1:$J$65536,$C9,[1]记账凭证簿!$E$1:$E$65536,LEFTB(AJ$3,2)) -> #VALUE! | AK9: =IF(AG9-AH9+AI9-AJ9>0,AG9-AH9+AI9-AJ9,0) -> #VALUE! | AL9: =IF(AH9-AG9+AJ9-AI9>0,AH9-AG9+AJ9-AI9,0) -> #VALUE! | AM9: =SUMIFS([1]记账凭证簿!$L$1:$L$65536,[1]记账凭证簿!$J$1:$J$65536,$C9,[1]记账凭证簿!$E$1:$E$65536,LEFTB(AM$3,2)) -> #VALUE! | AN9: =SUMIFS([1]记账凭证簿!$M$1:$M$65536,[1]记账凭证簿!$J$1:$J$65536,$C9,[1]记账凭证簿!$E$1:$E$65536,LEFTB(AN$3,2)) -> #VALUE! | AO9: =IF(AK9-AL9+AM9-AN9>0,AK9-AL9+AM9-AN9,0) -> #VALUE! | AP9: =IF(AL9-AK9+AN9-AM9>0,AL9-AK9+AN9-AM9,0) -> #VALUE! | AQ9: =SUMIFS([1]记账凭证簿!$L$1:$L$65536,[1]记账凭证簿!$J$1:$J$65536,$C9,[1]记账凭证簿!$E$1:$E$65536,LEFTB(AQ$3,2)) -> #VALUE! | AR9: =SUMIFS([1]记账凭证簿!$M$1:$M$65536,[1]记账凭证簿!$J$1:$J$65536,$C9,[1]记账凭证簿!$E$1:$E$65536,LEFTB(AR$3,2)) -> #VALUE! | AS9: =IF(AO9-AP9+AQ9-AR9>0,AO9-AP9+AQ9-AR9,0) -> #VALUE! | AT9: =IF(AP9-AO9+AR9-AQ9>0,AP9-AO9+AR9-AQ9,0) -> #VALUE! | AU9: =SUMIFS([1]记账凭证簿!$L$1:$L$65536,[1]记账凭证簿!$J$1:$J$65536,$C9,[1]记账凭证簿!$E$1:$E$65536,LEFTB(AU$3,2)) -> #VALUE! | AV9: =SUMIFS([1]记账凭证簿!$M$1:$M$65536,[1]记账凭证簿!$J$1:$J$65536,$C9,[1]记账凭证簿!$E$1:$E$65536,LEFTB(AV$3,2)) -> #VALUE! | AW9: =IF(AS9-AT9+AU9-AV9>0,AS9-AT9+AU9-AV9,0) -> #VALUE! | AX9: =IF(AT9-AS9+AV9-AU9>0,AT9-AS9+AV9-AU9,0) -> #VALUE! | AY9: =SUMIFS([1]记账凭证簿!$L$1:$L$65536,[1]记账凭证簿!$J$1:$J$65536,$C9,[1]记账凭证簿!$E$1:$E$65536,LEFTB(AY$3,2)) -> #VALUE! | AZ9: =SUMIFS([1]记账凭证簿!$M$1:$M$65536,[1]记账凭证簿!$J$1:$J$65536,$C9,[1]记账凭证簿!$E$1:$E$65536,LEFTB(AZ$3,2)) -> #VALUE! | BA9: =IF(AW9-AX9+AY9-AZ9>0,AW9-AX9+AY9-AZ9,0) -> #VALUE! | BB9: =IF(AX9-AW9+AZ9-AY9>0,AX9-AW9+AZ9-AY9,0) -> #VALUE!
B10: 1122 | C10: 应收账款 | E10: 651355 | G10: =SUMIFS([1]记账凭证簿!$L$1:$L$65536,[1]记账凭证簿!$J$1:$J$65536,$C10,[1]记账凭证簿!$E$1:$E$65536,LEFTB(G$3,2)) -> #VALUE! | H10: =SUMIFS([1]记账凭证簿!$M$1:$M$65536,[1]记账凭证簿!$J$1:$J$65536,$C10,[1]记账凭证簿!$E$1:$E$65536,LEFTB(H$3,2)) -> #VALUE! | I10: =IF(E10-F10+G10-H10>0,E10-F10+G10-H10,0) -> #VALUE! | J10: =IF(F10-E10+H10-G10>0,F10-E10+H10-G10,0) -> #VALUE! | K10: =SUMIFS([1]记账凭证簿!$L$1:$L$65536,[1]记账凭证簿!$J$1:$J$65536,$C10,[1]记账凭证簿!$E$1:$E$65536,LEFTB(K$3,2)) -> #VALUE! | L10: =SUMIFS([1]记账凭证簿!$M$1:$M$65536,[1]记账凭证簿!$J$1:$J$65536,$C10,[1]记账凭证簿!$E$1:$E$65536,LEFTB(L$3,2)) -> #VALUE! | M10: =IF(I10-J10+K10-L10>0,I10-J10+K10-L10,0) -> #VALUE! | N10: =IF(J10-I10+L10-K10>0,J10-I10+L10-K10,0) -> #VALUE! | O10: =SUMIFS([1]记账凭证簿!$L$1:$L$65536,[1]记账凭证簿!$J$1:$J$65536,$C10,[1]记账凭证簿!$E$1:$E$65536,LEFTB(O$3,2)) -> #VALUE! | P10: =SUMIFS([1]记账凭证簿!$M$1:$M$65536,[1]记账凭证簿!$J$1:$J$65536,$C10,[1]记账凭证簿!$E$1:$E$65536,LEFTB(P$3,2)) -> #VALUE! | Q10: =IF(M10-N10+O10-P10>0,M10-N10+O10-P10,0) -> #VALUE! | R10: =IF(N10-M10+P10-O10>0,N10-M10+P10-O10,0) -> #VALUE! | S10: =SUMIFS([1]记账凭证簿!$L$1:$L$65536,[1]记账凭证簿!$J$1:$J$65536,$C10,[1]记账凭证簿!$E$1:$E$65536,LEFTB(S$3,2)) -> #VALUE! | T10: =SUMIFS([1]记账凭证簿!$M$1:$M$65536,[1]记账凭证簿!$J$1:$J$65536,$C10,[1]记账凭证簿!$E$1:$E$65536,LEFTB(T$3,2)) -> #VALUE! | U10: =IF(Q10-R10+S10-T10>0,Q10-R10+S10-T10,0) -> #VALUE! | V10: =IF(R10-Q10+T10-S10>0,R10-Q10+T10-S10,0) -> #VALUE! | W10: =SUMIFS([1]记账凭证簿!$L$1:$L$65536,[1]记账凭证簿!$J$1:$J$65536,$C10,[1]记账凭证簿!$E$1:$E$65536,LEFTB(W$3,2)) -> #VALUE! | X10: =SUMIFS([1]记账凭证簿!$M$1:$M$65536,[1]记账凭证簿!$J$1:$J$65536,$C10,[1]记账凭证簿!$E$1:$E$65536,LEFTB(X$3,2)) -> #VALUE! | Y10: =IF(U10-V10+W10-X10>0,U10-V10+W10-X10,0) -> #VALUE! | Z10: =IF(V10-U10+X10-W10>0,V10-U10+X10-W10,0) -> #VALUE! | AA10: =SUMIFS([1]记账凭证簿!$L$1:$L$65536,[1]记账凭证簿!$J$1:$J$65536,$C10,[1]记账凭证簿!$E$1:$E$65536,LEFTB(AA$3,2)) -> #VALUE! | AB10: =SUMIFS([1]记账凭证簿!$M$1:$M$65536,[1]记账凭证簿!$J$1:$J$65536,$C10,[1]记账凭证簿!$E$1:$E$65536,LEFTB(AB$3,2)) -> #VALUE! | AC10: =IF(Y10-Z10+AA10-AB10>0,Y10-Z10+AA10-AB10,0) -> #VALUE! | AD10: =IF(Z10-Y10+AB10-AA10>0,Z10-Y10+AB10-AA10,0) -> #VALUE! | AE10: =SUMIFS([1]记账凭证簿!$L$1:$L$65536,[1]记账凭证簿!$J$1:$J$65536,$C10,[1]记账凭证簿!$E$1:$E$65536,LEFTB(AE$3,2)) -> #VALUE! | AF10: =SUMIFS([1]记账凭证簿!$M$1:$M$65536,[1]记账凭证簿!$J$1:$J$65536,$C10,[1]记账凭证簿!$E$1:$E$65536,LEFTB(AF$3,2)) -> #VALUE! | AG10: =IF(AC10-AD10+AE10-AF10>0,AC10-AD10+AE10-AF10,0) -> #VALUE! | AH10: =IF(AD10-AC10+AF10-AE10>0,AD10-AC10+AF10-AE10,0) -> #VALUE! | AI10: =SUMIFS([1]记账凭证簿!$L$1:$L$65536,[1]记账凭证簿!$J$1:$J$65536,$C10,[1]记账凭证簿!$E$1:$E$65536,LEFTB(AI$3,2)) -> #VALUE! | AJ10: =SUMIFS([1]记账凭证簿!$M$1:$M$65536,[1]记账凭证簿!$J$1:$J$65536,$C10,[1]记账凭证簿!$E$1:$E$65536,LEFTB(AJ$3,2)) -> #VALUE! | AK10: =IF(AG10-AH10+AI10-AJ10>0,AG10-AH10+AI10-AJ10,0) -> #VALUE! | AL10: =IF(AH10-AG10+AJ10-AI10>0,AH10-AG10+AJ10-AI10,0) -> #VALUE! | AM10: =SUMIFS([1]记账凭证簿!$L$1:$L$65536,[1]记账凭证簿!$J$1:$J$65536,$C10,[1]记账凭证簿!$E$1:$E$65536,LEFTB(AM$3,2)) -> #VALUE! | AN10: =SUMIFS([1]记账凭证簿!$M$1:$M$65536,[1]记账凭证簿!$J$1:$J$65536,$C10,[1]记账凭证簿!$E$1:$E$65536,LEFTB(AN$3,2)) -> #VALUE! | AO10: =IF(AK10-AL10+AM10-AN10>0,AK10-AL10+AM10-AN10,0) -> #VALUE! | AP10: =IF(AL10-AK10+AN10-AM10>0,AL10-AK10+AN10-AM10,0) -> #VALUE! | AQ10: =SUMIFS([1]记账凭证簿!$L$1:$L$65536,[1]记账凭证簿!$J$1:$J$65536,$C10,[1]记账凭证簿!$E$1:$E$65536,LEFTB(AQ$3,2)) -> #VALUE! | AR10: =SUMIFS([1]记账凭证簿!$M$1:$M$65536,[1]记账凭证簿!$J$1:$J$65536,$C10,[1]记账凭证簿!$E$1:$E$65536,LEFTB(AR$3,2)) -> #VALUE! | AS10: =IF(AO10-AP10+AQ10-AR10>0,AO10-AP10+AQ10-AR10,0) -> #VALUE! | AT10: =IF(AP10-AO10+AR10-AQ10>0,AP10-AO10+AR10-AQ10,0) -> #VALUE! | AU10: =SUMIFS([1]记账凭证簿!$L$1:$L$65536,[1]记账凭证簿!$J$1:$J$65536,$C10,[1]记账凭证簿!$E$1:$E$65536,LEFTB(AU$3,2)) -> #VALUE! | AV10: =SUMIFS([1]记账凭证簿!$M$1:$M$65536,[1]记账凭证簿!$J$1:$J$65536,$C10,[1]记账凭证簿!$E$1:$E$65536,LEFTB(AV$3,2)) -> #VALUE! | AW10: =IF(AS10-AT10+AU10-AV10>0,AS10-AT10+AU10-AV10,0) -> #VALUE! | AX10: =IF(AT10-AS10+AV10-AU10>0,AT10-AS10+AV10-AU10,0) -> #VALUE! | AY10: =SUMIFS([1]记账凭证簿!$L$1:$L$65536,[1]记账凭证簿!$J$1:$J$65536,$C10,[1]记账凭证簿!$E$1:$E$65536,LEFTB(AY$3,2)) -> #VALUE! | AZ10: =SUMIFS([1]记账凭证簿!$M$1:$M$65536,[1]记账凭证簿!$J$1:$J$65536,$C10,[1]记账凭证簿!$E$1:$E$65536,LEFTB(AZ$3,2)) -> #VALUE! | BA10: =IF(AW10-AX10+AY10-AZ10>0,AW10-AX10+AY10-AZ10,0) -> #VALUE! | BB10: =IF(AX10-AW10+AZ10-AY10>0,AX10-AW10+AZ10-AY10,0) -> #VALUE!
B11: 1123 | C11: 预付账款 | G11: =SUMIFS([1]记账凭证簿!$L$1:$L$65536,[1]记账凭证簿!$J$1:$J$65536,$C11,[1]记账凭证簿!$E$1:$E$65536,LEFTB(G$3,2)) -> #VALUE! | H11: =SUMIFS([1]记账凭证簿!$M$1:$M$65536,[1]记账凭证簿!$J$1:$J$65536,$C11,[1]记账凭证簿!$E$1:$E$65536,LEFTB(H$3,2)) -> #VALUE! | I11: =IF(E11-F11+G11-H11>0,E11-F11+G11-H11,0) -> #VALUE! | J11: =IF(F11-E11+H11-G11>0,F11-E11+H11-G11,0) -> #VALUE! | K11: =SUMIFS([1]记账凭证簿!$L$1:$L$65536,[1]记账凭证簿!$J$1:$J$65536,$C11,[1]记账凭证簿!$E$1:$E$65536,LEFTB(K$3,2)) -> #VALUE! | L11: =SUMIFS([1]记账凭证簿!$M$1:$M$65536,[1]记账凭证簿!$J$1:$J$65536,$C11,[1]记账凭证簿!$E$1:$E$65536,LEFTB(L$3,2)) -> #VALUE! | M11: =IF(I11-J11+K11-L11>0,I11-J11+K11-L11,0) -> #VALUE! | N11: =IF(J11-I11+L11-K11>0,J11-I11+L11-K11,0) -> #VALUE! | O11: =SUMIFS([1]记账凭证簿!$L$1:$L$65536,[1]记账凭证簿!$J$1:$J$65536,$C11,[1]记账凭证簿!$E$1:$E$65536,LEFTB(O$3,2)) -> #VALUE! | P11: =SUMIFS([1]记账凭证簿!$M$1:$M$65536,[1]记账凭证簿!$J$1:$J$65536,$C11,[1]记账凭证簿!$E$1:$E$65536,LEFTB(P$3,2)) -> #VALUE! | Q11: =IF(M11-N11+O11-P11>0,M11-N11+O11-P11,0) -> #VALUE! | R11: =IF(N11-M11+P11-O11>0,N11-M11+P11-O11,0) -> #VALUE! | S11: =SUMIFS([1]记账凭证簿!$L$1:$L$65536,[1]记账凭证簿!$J$1:$J$65536,$C11,[1]记账凭证簿!$E$1:$E$65536,LEFTB(S$3,2)) -> #VALUE! | T11: =SUMIFS([1]记账凭证簿!$M$1:$M$65536,[1]记账凭证簿!$J$1:$J$65536,$C11,[1]记账凭证簿!$E$1:$E$65536,LEFTB(T$3,2)) -> #VALUE! | U11: =IF(Q11-R11+S11-T11>0,Q11-R11+S11-T11,0) -> #VALUE! | V11: =IF(R11-Q11+T11-S11>0,R11-Q11+T11-S11,0) -> #VALUE! | W11: =SUMIFS([1]记账凭证簿!$L$1:$L$65536,[1]记账凭证簿!$J$1:$J$65536,$C11,[1]记账凭证簿!$E$1:$E$65536,LEFTB(W$3,2)) -> #VALUE! | X11: =SUMIFS([1]记账凭证簿!$M$1:$M$65536,[1]记账凭证簿!$J$1:$J$65536,$C11,[1]记账凭证簿!$E$1:$E$65536,LEFTB(X$3,2)) -> #VALUE! | Y11: =IF(U11-V11+W11-X11>0,U11-V11+W11-X11,0) -> #VALUE! | Z11: =IF(V11-U11+X11-W11>0,V11-U11+X11-W11,0) -> #VALUE! | AA11: =SUMIFS([1]记账凭证簿!$L$1:$L$65536,[1]记账凭证簿!$J$1:$J$65536,$C11,[1]记账凭证簿!$E$1:$E$65536,LEFTB(AA$3,2)) -> #VALUE! | AB11: =SUMIFS([1]记账凭证簿!$M$1:$M$65536,[1]记账凭证簿!$J$1:$J$65536,$C11,[1]记账凭证簿!$E$1:$E$65536,LEFTB(AB$3,2)) -> #VALUE! | AC11: =IF(Y11-Z11+AA11-AB11>0,Y11-Z11+AA11-AB11,0) -> #VALUE! | AD11: =IF(Z11-Y11+AB11-AA11>0,Z11-Y11+AB11-AA11,0) -> #VALUE! | AE11: =SUMIFS([1]记账凭证簿!$L$1:$L$65536,[1]记账凭证簿!$J$1:$J$65536,$C11,[1]记账凭证簿!$E$1:$E$65536,LEFTB(AE$3,2)) -> #VALUE! | AF11: =SUMIFS([1]记账凭证簿!$M$1:$M$65536,[1]记账凭证簿!$J$1:$J$65536,$C11,[1]记账凭证簿!$E$1:$E$65536,LEFTB(AF$3,2)) -> #VALUE! | AG11: =IF(AC11-AD11+AE11-AF11>0,AC11-AD11+AE11-AF11,0) -> #VALUE! | AH11: =IF(AD11-AC11+AF11-AE11>0,AD11-AC11+AF11-AE11,0) -> #VALUE! | AI11: =SUMIFS([1]记账凭证簿!$L$1:$L$65536,[1]记账凭证簿!$J$1:$J$65536,$C11,[1]记账凭证簿!$E$1:$E$65536,LEFTB(AI$3,2)) -> #VALUE! | AJ11: =SUMIFS([1]记账凭证簿!$M$1:$M$65536,[1]记账凭证簿!$J$1:$J$65536,$C11,[1]记账凭证簿!$E$1:$E$65536,LEFTB(AJ$3,2)) -> #VALUE! | AK11: =IF(AG11-AH11+AI11-AJ11>0,AG11-AH11+AI11-AJ11,0) -> #VALUE! | AL11: =IF(AH11-AG11+AJ11-AI11>0,AH11-AG11+AJ11-AI11,0) -> #VALUE! | AM11: =SUMIFS([1]记账凭证簿!$L$1:$L$65536,[1]记账凭证簿!$J$1:$J$65536,$C11,[1]记账凭证簿!$E$1:$E$65536,LEFTB(AM$3,2)) -> #VALUE! | AN11: =SUMIFS([1]记账凭证簿!$M$1:$M$65536,[1]记账凭证簿!$J$1:$J$65536,$C11,[1]记账凭证簿!$E$1:$E$65536,LEFTB(AN$3,2)) -> #VALUE! | AO11: =IF(AK11-AL11+AM11-AN11>0,AK11-AL11+AM11-AN11,0) -> #VALUE! | AP11: =IF(AL11-AK11+AN11-AM11>0,AL11-AK11+AN11-AM11,0) -> #VALUE! | AQ11: =SUMIFS([1]记账凭证簿!$L$1:$L$65536,[1]记账凭证簿!$J$1:$J$65536,$C11,[1]记账凭证簿!$E$1:$E$65536,LEFTB(AQ$3,2)) -> #VALUE! | AR11: =SUMIFS([1]记账凭证簿!$M$1:$M$65536,[1]记账凭证簿!$J$1:$J$65536,$C11,[1]记账凭证簿!$E$1:$E$65536,LEFTB(AR$3,2)) -> #VALUE! | AS11: =IF(AO11-AP11+AQ11-AR11>0,AO11-AP11+AQ11-AR11,0) -> #VALUE! | AT11: =IF(AP11-AO11+AR11-AQ11>0,AP11-AO11+AR11-AQ11,0) -> #VALUE! | AU11: =SUMIFS([1]记账凭证簿!$L$1:$L$65536,[1]记账凭证簿!$J$1:$J$65536,$C11,[1]记账凭证簿!$E$1:$E$65536,LEFTB(AU$3,2)) -> #VALUE! | AV11: =SUMIFS([1]记账凭证簿!$M$1:$M$65536,[1]记账凭证簿!$J$1:$J$65536,$C11,[1]记账凭证簿!$E$1:$E$65536,LEFTB(AV$3,2)) -> #VALUE! | AW11: =IF(AS11-AT11+AU11-AV11>0,AS11-AT11+AU11-AV11,0) -> #VALUE! | AX11: =IF(AT11-AS11+AV11-AU11>0,AT11-AS11+AV11-AU11,0) -> #VALUE! | AY11: =SUMIFS([1]记账凭证簿!$L$1:$L$65536,[1]记账凭证簿!$J$1:$J$65536,$C11,[1]记账凭证簿!$E$1:$E$65536,LEFTB(AY$3,2)) -> #VALUE! | AZ11: =SUMIFS([1]记账凭证簿!$M$1:$M$65536,[1]记账凭证簿!$J$1:$J$65536,$C11,[1]记账凭证簿!$E$1:$E$65536,LEFTB(AZ$3,2)) -> #VALUE! | BA11: =IF(AW11-AX11+AY11-AZ11>0,AW11-AX11+AY11-AZ11,0) -> #VALUE! | BB11: =IF(AX11-AW11+AZ11-AY11>0,AX11-AW11+AZ11-AY11,0) -> #VALUE!
B12: 1131 | C12: 应收股利 | E12: 0 | G12: =SUMIFS([1]记账凭证簿!$L$1:$L$65536,[1]记账凭证簿!$J$1:$J$65536,$C12,[1]记账凭证簿!$E$1:$E$65536,LEFTB(G$3,2)) -> #VALUE! | H12: =SUMIFS([1]记账凭证簿!$M$1:$M$65536,[1]记账凭证簿!$J$1:$J$65536,$C12,[1]记账凭证簿!$E$1:$E$65536,LEFTB(H$3,2)) -> #VALUE! | I12: =IF(E12-F12+G12-H12>0,E12-F12+G12-H12,0) -> #VALUE! | J12: =IF(F12-E12+H12-G12>0,F12-E12+H12-G12,0) -> #VALUE! | K12: =SUMIFS([1]记账凭证簿!$L$1:$L$65536,[1]记账凭证簿!$J$1:$J$65536,$C12,[1]记账凭证簿!$E$1:$E$65536,LEFTB(K$3,2)) -> #VALUE! | L12: =SUMIFS([1]记账凭证簿!$M$1:$M$65536,[1]记账凭证簿!$J$1:$J$65536,$C12,[1]记账凭证簿!$E$1:$E$65536,LEFTB(L$3,2)) -> #VALUE! | M12: =IF(I12-J12+K12-L12>0,I12-J12+K12-L12,0) -> #VALUE! | N12: =IF(J12-I12+L12-K12>0,J12-I12+L12-K12,0) -> #VALUE! | O12: =SUMIFS([1]记账凭证簿!$L$1:$L$65536,[1]记账凭证簿!$J$1:$J$65536,$C12,[1]记账凭证簿!$E$1:$E$65536,LEFTB(O$3,2)) -> #VALUE! | P12: =SUMIFS([1]记账凭证簿!$M$1:$M$65536,[1]记账凭证簿!$J$1:$J$65536,$C12,[1]记账凭证簿!$E$1:$E$65536,LEFTB(P$3,2)) -> #VALUE! | Q12: =IF(M12-N12+O12-P12>0,M12-N12+O12-P12,0) -> #VALUE! | R12: =IF(N12-M12+P12-O12>0,N12-M12+P12-O12,0) -> #VALUE! | S12: =SUMIFS([1]记账凭证簿!$L$1:$L$65536,[1]记账凭证簿!$J$1:$J$65536,$C12,[1]记账凭证簿!$E$1:$E$65536,LEFTB(S$3,2)) -> #VALUE! | T12: =SUMIFS([1]记账凭证簿!$M$1:$M$65536,[1]记账凭证簿!$J$1:$J$65536,$C12,[1]记账凭证簿!$E$1:$E$65536,LEFTB(T$3,2)) -> #VALUE! | U12: =IF(Q12-R12+S12-T12>0,Q12-R12+S12-T12,0) -> #VALUE! | V12: =IF(R12-Q12+T12-S12>0,R12-Q12+T12-S12,0) -> #VALUE! | W12: =SUMIFS([1]记账凭证簿!$L$1:$L$65536,[1]记账凭证簿!$J$1:$J$65536,$C12,[1]记账凭证簿!$E$1:$E$65536,LEFTB(W$3,2)) -> #VALUE! | X12: =SUMIFS([1]记账凭证簿!$M$1:$M$65536,[1]记账凭证簿!$J$1:$J$65536,$C12,[1]记账凭证簿!$E$1:$E$65536,LEFTB(X$3,2)) -> #VALUE! | Y12: =IF(U12-V12+W12-X12>0,U12-V12+W12-X12,0) -> #VALUE! | Z12: =IF(V12-U12+X12-W12>0,V12-U12+X12-W12,0) -> #VALUE! | AA12: =SUMIFS([1]记账凭证簿!$L$1:$L$65536,[1]记账凭证簿!$J$1:$J$65536,$C12,[1]记账凭证簿!$E$1:$E$65536,LEFTB(AA$3,2)) -> #VALUE! | AB12: =SUMIFS([1]记账凭证簿!$M$1:$M$65536,[1]记账凭证簿!$J$1:$J$65536,$C12,[1]记账凭证簿!$E$1:$E$65536,LEFTB(AB$3,2)) -> #VALUE! | AC12: =IF(Y12-Z12+AA12-AB12>0,Y12-Z12+AA12-AB12,0) -> #VALUE! | AD12: =IF(Z12-Y12+AB12-AA12>0,Z12-Y12+AB12-AA12,0) -> #VALUE! | AE12: =SUMIFS([1]记账凭证簿!$L$1:$L$65536,[1]记账凭证簿!$J$1:$J$65536,$C12,[1]记账凭证簿!$E$1:$E$65536,LEFTB(AE$3,2)) -> #VALUE! | AF12: =SUMIFS([1]记账凭证簿!$M$1:$M$65536,[1]记账凭证簿!$J$1:$J$65536,$C12,[1]记账凭证簿!$E$1:$E$65536,LEFTB(AF$3,2)) -> #VALUE! | AG12: =IF(AC12-AD12+AE12-AF12>0,AC12-AD12+AE12-AF12,0) -> #VALUE! | AH12: =IF(AD12-AC12+AF12-AE12>0,AD12-AC12+AF12-AE12,0) -> #VALUE! | AI12: =SUMIFS([1]记账凭证簿!$L$1:$L$65536,[1]记账凭证簿!$J$1:$J$65536,$C12,[1]记账凭证簿!$E$1:$E$65536,LEFTB(AI$3,2)) -> #VALUE! | AJ12: =SUMIFS([1]记账凭证簿!$M$1:$M$65536,[1]记账凭证簿!$J$1:$J$65536,$C12,[1]记账凭证簿!$E$1:$E$65536,LEFTB(AJ$3,2)) -> #VALUE! | AK12: =IF(AG12-AH12+AI12-AJ12>0,AG12-AH12+AI12-AJ12,0) -> #VALUE! | AL12: =IF(AH12-AG12+AJ12-AI12>0,AH12-AG12+AJ12-AI12,0) -> #VALUE! | AM12: =SUMIFS([1]记账凭证簿!$L$1:$L$65536,[1]记账凭证簿!$J$1:$J$65536,$C12,[1]记账凭证簿!$E$1:$E$65536,LEFTB(AM$3,2)) -> #VALUE! | AN12: =SUMIFS([1]记账凭证簿!$M$1:$M$65536,[1]记账凭证簿!$J$1:$J$65536,$C12,[1]记账凭证簿!$E$1:$E$65536,LEFTB(AN$3,2)) -> #VALUE! | AO12: =IF(AK12-AL12+AM12-AN12>0,AK12-AL12+AM12-AN12,0) -> #VALUE! | AP12: =IF(AL12-AK12+AN12-AM12>0,AL12-AK12+AN12-AM12,0) -> #VALUE! | AQ12: =SUMIFS([1]记账凭证簿!$L$1:$L$65536,[1]记账凭证簿!$J$1:$J$65536,$C12,[1]记账凭证簿!$E$1:$E$65536,LEFTB(AQ$3,2)) -> #VALUE! | AR12: =SUMIFS([1]记账凭证簿!$M$1:$M$65536,[1]记账凭证簿!$J$1:$J$65536,$C12,[1]记账凭证簿!$E$1:$E$65536,LEFTB(AR$3,2)) -> #VALUE! | AS12: =IF(AO12-AP12+AQ12-AR12>0,AO12-AP12+AQ12-AR12,0) -> #VALUE! | AT12: =IF(AP12-AO12+AR12-AQ12>0,AP12-AO12+AR12-AQ12,0) -> #VALUE! | AU12: =SUMIFS([1]记账凭证簿!$L$1:$L$65536,[1]记账凭证簿!$J$1:$J$65536,$C12,[1]记账凭证簿!$E$1:$E$65536,LEFTB(AU$3,2)) -> #VALUE! | AV12: =SUMIFS([1]记账凭证簿!$M$1:$M$65536,[1]记账凭证簿!$J$1:$J$65536,$C12,[1]记账凭证簿!$E$1:$E$65536,LEFTB(AV$3,2)) -> #VALUE! | AW12: =IF(AS12-AT12+AU12-AV12>0,AS12-AT12+AU12-AV12,0) -> #VALUE! | AX12: =IF(AT12-AS12+AV12-AU12>0,AT12-AS12+AV12-AU12,0) -> #VALUE! | AY12: =SUMIFS([1]记账凭证簿!$L$1:$L$65536,[1]记账凭证簿!$J$1:$J$65536,$C12,[1]记账凭证簿!$E$1:$E$65536,LEFTB(AY$3,2)) -> #VALUE! | AZ12: =SUMIFS([1]记账凭证簿!$M$1:$M$65536,[1]记账凭证簿!$J$1:$J$65536,$C12,[1]记账凭证簿!$E$1:$E$65536,LEFTB(AZ$3,2)) -> #VALUE! | BA12: =IF(AW12-AX12+AY12-AZ12>0,AW12-AX12+AY12-AZ12,0) -> #VALUE! | BB12: =IF(AX12-AW12+AZ12-AY12>0,AX12-AW12+AZ12-AY12,0) -> #VALUE!
B13: 1231 | C13: 其他应收款 | E13: 94700 | G13: =SUMIFS([1]记账凭证簿!$L$1:$L$65536,[1]记账凭证簿!$J$1:$J$65536,$C13,[1]记账凭证簿!$E$1:$E$65536,LEFTB(G$3,2)) -> #VALUE! | H13: =SUMIFS([1]记账凭证簿!$M$1:$M$65536,[1]记账凭证簿!$J$1:$J$65536,$C13,[1]记账凭证簿!$E$1:$E$65536,LEFTB(H$3,2)) -> #VALUE! | I13: =IF(E13-F13+G13-H13>0,E13-F13+G13-H13,0) -> #VALUE! | J13: =IF(F13-E13+H13-G13>0,F13-E13+H13-G13,0) -> #VALUE! | K13: =SUMIFS([1]记账凭证簿!$L$1:$L$65536,[1]记账凭证簿!$J$1:$J$65536,$C13,[1]记账凭证簿!$E$1:$E$65536,LEFTB(K$3,2)) -> #VALUE! | L13: =SUMIFS([1]记账凭证簿!$M$1:$M$65536,[1]记账凭证簿!$J$1:$J$65536,$C13,[1]记账凭证簿!$E$1:$E$65536,LEFTB(L$3,2)) -> #VALUE! | M13: =IF(I13-J13+K13-L13>0,I13-J13+K13-L13,0) -> #VALUE! | N13: =IF(J13-I13+L13-K13>0,J13-I13+L13-K13,0) -> #VALUE! | O13: =SUMIFS([1]记账凭证簿!$L$1:$L$65536,[1]记账凭证簿!$J$1:$J$65536,$C13,[1]记账凭证簿!$E$1:$E$65536,LEFTB(O$3,2)) -> #VALUE! | P13: =SUMIFS([1]记账凭证簿!$M$1:$M$65536,[1]记账凭证簿!$J$1:$J$65536,$C13,[1]记账凭证簿!$E$1:$E$65536,LEFTB(P$3,2)) -> #VALUE! | Q13: =IF(M13-N13+O13-P13>0,M13-N13+O13-P13,0) -> #VALUE! | R13: =IF(N13-M13+P13-O13>0,N13-M13+P13-O13,0) -> #VALUE! | S13: =SUMIFS([1]记账凭证簿!$L$1:$L$65536,[1]记账凭证簿!$J$1:$J$65536,$C13,[1]记账凭证簿!$E$1:$E$65536,LEFTB(S$3,2)) -> #VALUE! | T13: =SUMIFS([1]记账凭证簿!$M$1:$M$65536,[1]记账凭证簿!$J$1:$J$65536,$C13,[1]记账凭证簿!$E$1:$E$65536,LEFTB(T$3,2)) -> #VALUE! | U13: =IF(Q13-R13+S13-T13>0,Q13-R13+S13-T13,0) -> #VALUE! | V13: =IF(R13-Q13+T13-S13>0,R13-Q13+T13-S13,0) -> #VALUE! | W13: =SUMIFS([1]记账凭证簿!$L$1:$L$65536,[1]记账凭证簿!$J$1:$J$65536,$C13,[1]记账凭证簿!$E$1:$E$65536,LEFTB(W$3,2)) -> #VALUE! | X13: =SUMIFS([1]记账凭证簿!$M$1:$M$65536,[1]记账凭证簿!$J$1:$J$65536,$C13,[1]记账凭证簿!$E$1:$E$65536,LEFTB(X$3,2)) -> #VALUE! | Y13: =IF(U13-V13+W13-X13>0,U13-V13+W13-X13,0) -> #VALUE! | Z13: =IF(V13-U13+X13-W13>0,V13-U13+X13-W13,0) -> #VALUE! | AA13: =SUMIFS([1]记账凭证簿!$L$1:$L$65536,[1]记账凭证簿!$J$1:$J$65536,$C13,[1]记账凭证簿!$E$1:$E$65536,LEFTB(AA$3,2)) -> #VALUE! | AB13: =SUMIFS([1]记账凭证簿!$M$1:$M$65536,[1]记账凭证簿!$J$1:$J$65536,$C13,[1]记账凭证簿!$E$1:$E$65536,LEFTB(AB$3,2)) -> #VALUE! | AC13: =IF(Y13-Z13+AA13-AB13>0,Y13-Z13+AA13-AB13,0) -> #VALUE! | AD13: =IF(Z13-Y13+AB13-AA13>0,Z13-Y13+AB13-AA13,0) -> #VALUE! | AE13: =SUMIFS([1]记账凭证簿!$L$1:$L$65536,[1]记账凭证簿!$J$1:$J$65536,$C13,[1]记账凭证簿!$E$1:$E$65536,LEFTB(AE$3,2)) -> #VALUE! | AF13: =SUMIFS([1]记账凭证簿!$M$1:$M$65536,[1]记账凭证簿!$J$1:$J$65536,$C13,[1]记账凭证簿!$E$1:$E$65536,LEFTB(AF$3,2)) -> #VALUE! | AG13: =IF(AC13-AD13+AE13-AF13>0,AC13-AD13+AE13-AF13,0) -> #VALUE! | AH13: =IF(AD13-AC13+AF13-AE13>0,AD13-AC13+AF13-AE13,0) -> #VALUE! | AI13: =SUMIFS([1]记账凭证簿!$L$1:$L$65536,[1]记账凭证簿!$J$1:$J$65536,$C13,[1]记账凭证簿!$E$1:$E$65536,LEFTB(AI$3,2)) -> #VALUE! | AJ13: =SUMIFS([1]记账凭证簿!$M$1:$M$65536,[1]记账凭证簿!$J$1:$J$65536,$C13,[1]记账凭证簿!$E$1:$E$65536,LEFTB(AJ$3,2)) -> #VALUE! | AK13: =IF(AG13-AH13+AI13-AJ13>0,AG13-AH13+AI13-AJ13,0) -> #VALUE! | AL13: =IF(AH13-AG13+AJ13-AI13>0,AH13-AG13+AJ13-AI13,0) -> #VALUE! | AM13: =SUMIFS([1]记账凭证簿!$L$1:$L$65536,[1]记账凭证簿!$J$1:$J$65536,$C13,[1]记账凭证簿!$E$1:$E$65536,LEFTB(AM$3,2)) -> #VALUE! | AN13: =SUMIFS([1]记账凭证簿!$M$1:$M$65536,[1]记账凭证簿!$J$1:$J$65536,$C13,[1]记账凭证簿!$E$1:$E$65536,LEFTB(AN$3,2)) -> #VALUE! | AO13: =IF(AK13-AL13+AM13-AN13>0,AK13-AL13+AM13-AN13,0) -> #VALUE! | AP13: =IF(AL13-AK13+AN13-AM13>0,AL13-AK13+AN13-AM13,0) -> #VALUE! | AQ13: =SUMIFS([1]记账凭证簿!$L$1:$L$65536,[1]记账凭证簿!$J$1:$J$65536,$C13,[1]记账凭证簿!$E$1:$E$65536,LEFTB(AQ$3,2)) -> #VALUE! | AR13: =SUMIFS([1]记账凭证簿!$M$1:$M$65536,[1]记账凭证簿!$J$1:$J$65536,$C13,[1]记账凭证簿!$E$1:$E$65536,LEFTB(AR$3,2)) -> #VALUE! | AS13: =IF(AO13-AP13+AQ13-AR13>0,AO13-AP13+AQ13-AR13,0) -> #VALUE! | AT13: =IF(AP13-AO13+AR13-AQ13>0,AP13-AO13+AR13-AQ13,0) -> #VALUE! | AU13: =SUMIFS([1]记账凭证簿!$L$1:$L$65536,[1]记账凭证簿!$J$1:$J$65536,$C13,[1]记账凭证簿!$E$1:$E$65536,LEFTB(AU$3,2)) -> #VALUE! | AV13: =SUMIFS([1]记账凭证簿!$M$1:$M$65536,[1]记账凭证簿!$J$1:$J$65536,$C13,[1]记账凭证簿!$E$1:$E$65536,LEFTB(AV$3,2)) -> #VALUE! | AW13: =IF(AS13-AT13+AU13-AV13>0,AS13-AT13+AU13-AV13,0) -> #VALUE! | AX13: =IF(AT13-AS13+AV13-AU13>0,AT13-AS13+AV13-AU13,0) -> #VALUE! | AY13: =SUMIFS([1]记账凭证簿!$L$1:$L$65536,[1]记账凭证簿!$J$1:$J$65536,$C13,[1]记账凭证簿!$E$1:$E$65536,LEFTB(AY$3,2)) -> #VALUE! | AZ13: =SUMIFS([1]记账凭证簿!$M$1:$M$65536,[1]记账凭证簿!$J$1:$J$65536,$C13,[1]记账凭证簿!$E$1:$E$65536,LEFTB(AZ$3,2)) -> #VALUE! | BA13: =IF(AW13-AX13+AY13-AZ13>0,AW13-AX13+AY13-AZ13,0) -> #VALUE! | BB13: =IF(AX13-AW13+AZ13-AY13>0,AX13-AW13+AZ13-AY13,0) -> #VALUE!
