Workbook

Sheet 往来客户表
A1: 往来客户表
A2: 客户代码 | B2: 客户名称 | C2: 地址 | D2: 联系人 | E2: 联系电话
A3: C01 | B3: 金优超市 | C3: 北京市海淀区北京学院南路33号 | D3: 刘荣 | E3: 15202725870
A4: C02 | B4: 广丰商城 | C4: 上海市普陀区枣阳路436号 | D4: 朱宜欣 | E4: 13154966989
A5: C03 | B5: 荣千实业 | C5: 广州市越秀区观绿路11号 | D5: 王秒睿 | E5: 15917529591
A6: C04 | B6: 润发房产 | C6: 苏州市姑苏区白塔西路106号 | D6: 宋合 | E6: 15766610555
A7: C05 | B7: 和裕大厦 | C7: 上海市静安区陕西北路105号 | D7: 马福如 | E7: 13816503668
A8: C06 | B8: 汇久商城 | C8: 杭州市平海路 | D8: 陈雅慧 | E8: 18657566331

Sheet 应收款项表
A1: 应收款项表
A2: 客户代码 | B2: 客户名称 | C2: 发票号码 | D2: 应收金额 | E2: 已收金额 | F2: 未收金额 | G2: 开票日期 | H2: 收款期限 | I2: 到期日 | J2: 是否到期 | K2: 未到期 | L2: 0-60天 | M2: 61-120天 | N2: 121-365天 | O2: 366以上
A3: C03 | B3: =VLOOKUP(A3,往来客户表!A:E,2,0) -> 荣千实业 | C3: T6216 | D3: 10600 | E3: 0 | F3: =D3-E3 -> 10600 | G3: 44562 | H3: 180 | I3: =G3+H3 -> 44742 | J3: =IF(I3<$J$12,"是","否") -> 是 | K3: =IF($J$12-I3<0,F3,"--") -> -- | L3: =IF(AND($J$12-I3>0,$J$12-I3<=60),F3,"--") -> -- | M3: =IF(AND($J$12-I3>60,$J$12-I3<=120),F3,"--") -> -- | N3: =IF(AND($J$12-I3>121,$J$12-I3<=365),F3,"--") -> -- | O3: =IF($J$12-I3>365,F3,"--") -> 10600
A4: C01 | B4: =VLOOKUP(A4,往来客户表!A:E,2,0) -> 金优超市 | C4: L2178 | D4: 25000 | E4: 7000 | F4: =D4-E4 -> 18000 | G4: 44720 | H4: 30 | I4: =G4+H4 -> 44750 | J4: =IF(I4<$J$12,"是","否") -> 是 | K4: =IF($J$12-I4<0,F4,"--") -> -- | L4: =IF(AND($J$12-I4>0,$J$12-I4<=60),F4,"--") -> -- | M4: =IF(AND($J$12-I4>60,$J$12-I4<=120),F4,"--") -> -- | N4: =IF(AND($J$12-I4>121,$J$12-I4<=365),F4,"--") -> 18000 | O4: =IF($J$12-I4>365,F4,"--") -> --
A5: C03 | B5: =VLOOKUP(A5,往来客户表!A:E,2,0) -> 荣千实业 | C5: K2903 | D5: 30000 | E5: 0 | F5: =D5-E5 -> 30000 | G5: 44843 | H5: 180 | I5: =G5+H5 -> 45023 | J5: =IF(I5<$J$12,"是","否") -> 是 | K5: =IF($J$12-I5<0,F5,"--") -> -- | L5: =IF(AND($J$12-I5>0,$J$12-I5<=60),F5,"--") -> -- | M5: =IF(AND($J$12-I5>60,$J$12-I5<=120),F5,"--") -> 30000 | N5: =IF(AND($J$12-I5>121,$J$12-I5<=365),F5,"--") -> -- | O5: =IF($J$12-I5>365,F5,"--") -> --
A6: C05 | B6: =VLOOKUP(A6,往来客户表!A:E,2,0) -> 和裕大厦 | C6: F8440 | D6: 10000 | E6: 500 | F6: =D6-E6 -> 9500 | G6: 44971 | H6: 150 | I6: =G6+H6 -> 45121 | J6: =IF(I6<$J$12,"是","否") -> 否 | K6: =IF($J$12-I6<0,F6,"--") -> 9500 | L6: =IF(AND($J$12-I6>0,$J$12-I6<=60),F6,"--") -> -- | M6: =IF(AND($J$12-I6>60,$J$12-I6<=120),F6,"--") -> -- | N6: =IF(AND($J$12-I6>121,$J$12-I6<=365),F6,"--") -> -- | O6: =IF($J$12-I6>365,F6,"--") -> --
A7: C02 | B7: =VLOOKUP(A7,往来客户表!A:E,2,0) -> 广丰商城 | C7: C1156 | D7: 48000 | E7: 9000 | F7: =D7-E7 -> 39000 | G7: 45032 | H7: 180 | I7: =G7+H7 -> 45212 | J7: =IF(I7<$J$12,"是","否") -> 否 | K7: =IF($J$12-I7<0,F7,"--") -> 39000 | L7: =IF(AND($J$12-I7>0,$J$12-I7<=60),F7,"--") -> -- | M7: =IF(AND($J$12-I7>60,$J$12-I7<=120),F7,"--") -> -- | N7: =IF(AND($J$12-I7>121,$J$12-I7<=365),F7,"--") -> -- | O7: =IF($J$12-I7>365,F7,"--") -> --
A8: C06 | B8: =VLOOKUP(A8,往来客户表!A:E,2,0) -> 汇久商城 | C8: J9105 | D8: 17000 | E8: 5000 | F8: =D8-E8 -> 12000 | G8: 45036 | H8: 90 | I8: =G8+H8 -> 45126 | J8: =IF(I8<$J$12,"是","否") -> 否 | K8: =IF($J$12-I8<0,F8,"--") -> 12000 | L8: =IF(AND($J$12-I8>0,$J$12-I8<=60),F8,"--") -> -- | M8: =IF(AND($J$12-I8>60,$J$12-I8<=120),F8,"--") -> -- | N8: =IF(AND($J$12-I8>121,$J$12-I8<=365),F8,"--") -> -- | O8: =IF($J$12-I8>365,F8,"--") -> --
A9: C04 | B9: =VLOOKUP(A9,往来客户表!A:E,2,0) -> 润发房产 | C9: Y5392 | D9: 500 | E9: 0 | F9: =D9-E9 -> 500 | G9: 45073 | H9: 10 | I9: =G9+H9 -> 45083 | J9: =IF(I9<$J$12,"是","否") -> 是 | K9: =IF($J$12-I9<0,F9,"--") -> -- | L9: =IF(AND($J$12-I9>0,$J$12-I9<=60),F9,"--") -> 500 | M9: =IF(AND($J$12-I9>60,$J$12-I9<=120),F9,"--") -> -- | N9: =IF(AND($J$12-I9>121,$J$12-I9<=365),F9,"--") -> -- | O9: =IF($J$12-I9>365,F9,"--") -> --
A10: C04 | B10: =VLOOKUP(A10,往来客户表!A:E,2,0) -> 润发房产 | C10: P3799 | D10: 4000 | E10: 0 | F10: =D10-E10 -> 4000 | G10: 45087 | H10: 40 | I10: =G10+H10 -> 45127 | J10: =IF(I10<$J$12,"是","否") -> 否 | K10: =IF($J$12-I10<0,F10,"--") -> 4000 | L10: =IF(AND($J$12-I10>0,$J$12-I10<=60),F10,"--") -> -- | M10: =IF(AND($J$12-I10>60,$J$12-I10<=120),F10,"--") -> -- | N10: =IF(AND($J$12-I10>121,$J$12-I10<=365),F10,"--") -> -- | O10: =IF($J$12-I10>365,F10,"--") -> --
A11: 应收款合计： | K11: =SUM(K3:K10) -> 64500 | L11: =SUM(L3:L10) -> 500 | M11: =SUM(M3:M10) -> 30000 | N11: =SUM(N3:N10) -> 18000 | O11: =SUM(O3:O10) -> 10600
I12: 今天日期： | J12: 45112
